BEGIN:VCALENDAR
VERSION:2.0
PRODID:-//KIDS CLUSTER - ECPv6.15.20//NONSGML v1.0//EN
CALSCALE:GREGORIAN
METHOD:PUBLISH
X-ORIGINAL-URL:https://www.kids-cluster.com/es/
X-WR-CALDESC:Eventos para KIDS CLUSTER
REFRESH-INTERVAL;VALUE=DURATION:PT1H
X-Robots-Tag:noindex
X-PUBLISHED-TTL:PT1H
BEGIN:VTIMEZONE
TZID:Europe/Madrid
BEGIN:DAYLIGHT
TZOFFSETFROM:+0100
TZOFFSETTO:+0200
TZNAME:CEST
DTSTART:20240331T010000
END:DAYLIGHT
BEGIN:STANDARD
TZOFFSETFROM:+0200
TZOFFSETTO:+0100
TZNAME:CET
DTSTART:20241027T010000
END:STANDARD
BEGIN:DAYLIGHT
TZOFFSETFROM:+0100
TZOFFSETTO:+0200
TZNAME:CEST
DTSTART:20250330T010000
END:DAYLIGHT
BEGIN:STANDARD
TZOFFSETFROM:+0200
TZOFFSETTO:+0100
TZNAME:CET
DTSTART:20251026T010000
END:STANDARD
BEGIN:DAYLIGHT
TZOFFSETFROM:+0100
TZOFFSETTO:+0200
TZNAME:CEST
DTSTART:20260329T010000
END:DAYLIGHT
BEGIN:STANDARD
TZOFFSETFROM:+0200
TZOFFSETTO:+0100
TZNAME:CET
DTSTART:20261025T010000
END:STANDARD
END:VTIMEZONE
BEGIN:VEVENT
DTSTART;TZID=Europe/Madrid:20250515T100000
DTEND;TZID=Europe/Madrid:20250515T110000
DTSTAMP:20260425T155405
CREATED:20250502T085729Z
LAST-MODIFIED:20250514T140841Z
UID:35620-1747303200-1747306800@www.kids-cluster.com
SUMMARY:Sessió informativa sobre la missió a Xina
DESCRIPTION:Vols explorar el mercat xinès i descobrir si la teva empresa hi té oportunitats reals? Tot el que necessites saber per decidir si aquest mercat és per a tu.\nParticipa en aquesta sessió informativa on t’explicarem tot el que cal saber sobre la missió a la Xina prevista per aquest juliol\, en col·laboració amb ACCIÓ. \nLa Xina lidera el consum digital global i el segment infantil n’és un dels principals motors. Amb una base de consumidors àmplia\, polítiques de suport familiar i una estructura intergeneracional molt implicada\, el mercat xinès representa una gran oportunitat per a les empreses que aposten per la qualitat i la innovació. Entendre l’ecosistema digital xinès i adaptar-s’hi és clau per tenir-hi èxit. \nPrograma de la sessió:\nEn aquesta jornada comptarem amb la participació de Josep Queró\, Consultor Internacional eTradei Cecilia Chen\, International Trade Consultant d’ACCIÓ que ens presentaran els principals objectius de la missió i resoldran tots els vostres dubtes. \n\nPresentarem els objectius i el programa de la missió a la CBME 2025 (Children Baby Maternity Expo)\, una de les fires més grans del món en el sector infantil i maternal.\nExplicarem els avantatges de participar-hi com a empresa catalana i les possibilitats de connexió amb TPs\, socis comercials i experts locals.\nOferirem espai per resoldre dubtes i compartir expectatives entre les empreses interessades.\n\n\nA qui va dirigit?\nA totes aquelles empreses sòcies de KID’S CLUSTER que vulguin internacionalitzar-se\, explorar nous mercats i establir aliances amb partners internacionals. Obert també a empreses no sòcies que tinguin interès en participar a la Missió a Xina
URL:https://www.kids-cluster.com/es/activitats/misso-xina-qa/
CATEGORIES:Virtual
ATTACH;FMTTYPE=image/jpeg:https://www.kids-cluster.com/wp-content/uploads/2025/05/20250515_xina-qa.jpg
END:VEVENT
BEGIN:VEVENT
DTSTART;TZID=Europe/Madrid:20250522T100000
DTEND;TZID=Europe/Madrid:20250522T133000
DTSTAMP:20260425T155405
CREATED:20250313T130519Z
LAST-MODIFIED:20250520T132007Z
UID:35331-1747908000-1747920600@www.kids-cluster.com
SUMMARY:Innovació i finançament en el sector infantil i familiar
DESCRIPTION:La innovació és clau per al creixement del sector infantil i familiar\, i el finançament públic pot ser un motor fonamental per fer realitat projectes transformadors. En aquesta sessió\, explorarem com les empreses i entitats poden accedir a aquestes oportunitats\, coneixerem casos d’èxit i facilitarem connexions per impulsar noves iniciatives.\nQuè t’espera:\n\nDescobreix les convocatòries de finançament públic per a projectes d’innovació en el sector infantil i familiar\, tant a nivell regional\, nacional com europeu\, i aprofita les oportunitats per aconseguir suport financer.\nExplora les principals línies de finançament públic per a projectes d’innovació en àmbits com cultura\, economia social\, IA aplicada a la infància\, tecnologies per a la salut i l’educació\, millora de l’experiència d’usuari\, nous formats d’oci i entreteniment\, i sostenibilitat.\nDescobreix les línies d’investigació de les universitats i centres de recerca del clúster aplicades al sector infantil i familiar\, i connecta-hi per explorar noves oportunitats de col·laboració en projectes d’innovació.\nConeix projectes innovadors dels membres de KID’S CLUSTER que han impulsat amb fons públics\nCol·laboracions estratègiques que impulsin nous projectes i la innovació en el sector infantil i familiar.\n\n  \nPrograma de la sessió:\n\n10:00 – 10:30 Benvinguda i inauguració a càrrec de Rafael González Moreno\, Cap de l’Àrea d’Impuls de la Transferència del Coneixement\, Direcció General de Transferència i Societat del Coneixement del Departament de Recerca i Universitat\n10:30 – 11:00 Oportunitats de finançament públic per al sector Kids & Family: Presentació sobre línies de finançament actives en innovació per el sector infantil i familiar a càrrec de María José Tomás\, Departamento de Promoción Institucional y Cooperación Territorial del CDTI.\n11:00 – 11:45 Transferència de coneixement de les universitats i centres de recerca: Presentació de línies d’investigació aplicables al sector infantil i familiar\n\n \n\n11:45 – 12:00 Pausa i networking\n12:00 – 13:00 Elevator Pitch de projectes d’innovació: Presentació d’empreses i entitats de KID’S CLUSTER que han desenvolupat projectes amb finançament públic i volen compartir la seva experiència.\n13:00 – 13:30 Networking\n\n  \n🔍 Open Call per a projectes innovadors en el sector infantil i familiar\nSi la teva empresa o entitat està desenvolupant un projecte innovador en el sector infantil i familiar (educació\, salut\, alimentació\, cultura o oci) i ha rebut finançament públic (sigui europeu\, nacional o regional)\, aquesta és la teva oportunitat per donar-li visibilitat! \nPer què participar? \n\nDonar visibilitat al teu projecte davant d’altres empreses\, institucions i potencials col·laboradors.\nPosicionar-te com a referent en innovació dins del sector Kids & Family.\nExplorar possibles sinergies i oportunitats de col·laboració.\nCompartir coneixement i experiències sobre el procés d’impulsar un projecte.\n\n👉Presenta aquí la teva proposta!\nEmplena el formulari amb la informació del teu projecte i explica’ns perquè és innovador. Un cop rebudes totes les propostes\, seleccionarem els projectes més innovadors! \n⚠️Open call exclusiva per socis. Si no ets soci i tens interès en participar\, contacta’ns!\n📅 Dijous 22 de maig\n🕙 De 10:00 a 13:30\n📍 Hub Social Barcelona
URL:https://www.kids-cluster.com/es/activitats/innovacio-i-financament-en-el-sector-infantil-i-familiar/
LOCATION:Hub Social Barcelona\, C/ de Girona\, 34\, Barcelona\, Barcelona\, 08010\, Espanya
CATEGORIES:Presencial
ATTACH;FMTTYPE=image/jpeg:https://www.kids-cluster.com/wp-content/uploads/2025/03/20250522_innovacio-i-financament-1-1.jpg
END:VEVENT
END:VCALENDAR