BEGIN:VCALENDAR
VERSION:2.0
PRODID:-//KIDS CLUSTER - ECPv6.15.20//NONSGML v1.0//EN
CALSCALE:GREGORIAN
METHOD:PUBLISH
X-ORIGINAL-URL:https://www.kids-cluster.com/es/
X-WR-CALDESC:Eventos para KIDS CLUSTER
REFRESH-INTERVAL;VALUE=DURATION:PT1H
X-Robots-Tag:noindex
X-PUBLISHED-TTL:PT1H
BEGIN:VTIMEZONE
TZID:Europe/Madrid
BEGIN:DAYLIGHT
TZOFFSETFROM:+0100
TZOFFSETTO:+0200
TZNAME:CEST
DTSTART:20240331T010000
END:DAYLIGHT
BEGIN:STANDARD
TZOFFSETFROM:+0200
TZOFFSETTO:+0100
TZNAME:CET
DTSTART:20241027T010000
END:STANDARD
BEGIN:DAYLIGHT
TZOFFSETFROM:+0100
TZOFFSETTO:+0200
TZNAME:CEST
DTSTART:20250330T010000
END:DAYLIGHT
BEGIN:STANDARD
TZOFFSETFROM:+0200
TZOFFSETTO:+0100
TZNAME:CET
DTSTART:20251026T010000
END:STANDARD
BEGIN:DAYLIGHT
TZOFFSETFROM:+0100
TZOFFSETTO:+0200
TZNAME:CEST
DTSTART:20260329T010000
END:DAYLIGHT
BEGIN:STANDARD
TZOFFSETFROM:+0200
TZOFFSETTO:+0100
TZNAME:CET
DTSTART:20261025T010000
END:STANDARD
END:VTIMEZONE
BEGIN:VEVENT
DTSTART;TZID=Europe/Madrid:20250403T100000
DTEND;TZID=Europe/Madrid:20250403T110000
DTSTAMP:20260425T172236
CREATED:20250115T143456Z
LAST-MODIFIED:20250402T113000Z
UID:34851-1743674400-1743678000@www.kids-cluster.com
SUMMARY:Grup de Treball de valor compartit i sostenibilitat
DESCRIPTION:El Grup de Treball de Valor compartit i sostenibilitat busca generar impacte positiu social i mediambiental. En aquest grup s’hi treballen qüestions com la sostenibilitat\, la innovació en packaging\, la comunicació inclusiva\, les experiències universals i accessibles a tots els infants\, i la innovació social\, entre d’altres.\nPrograma de la sessió:\n\nBenvinguda\nPresentació del Grup de Treball\nPresentació del projecte de valor compartit Alpha Planet\nPropostes d’accions en sostenibilitat i valor compartit\nTancament sessió\n\nDetalls de la sessió properament ⚠️Sessió exclusiva per a socis
URL:https://www.kids-cluster.com/es/activitats/gt-valor-compartit-sostenibilitat-2025-1/
CATEGORIES:Virtual
ATTACH;FMTTYPE=image/png:https://www.kids-cluster.com/wp-content/uploads/2025/01/20250403_gt-vc-i-sostenibilitat.png
END:VEVENT
END:VCALENDAR