BEGIN:VCALENDAR
VERSION:2.0
PRODID:-//KIDS CLUSTER - ECPv6.15.20//NONSGML v1.0//EN
CALSCALE:GREGORIAN
METHOD:PUBLISH
X-ORIGINAL-URL:https://www.kids-cluster.com/es/
X-WR-CALDESC:Eventos para KIDS CLUSTER
REFRESH-INTERVAL;VALUE=DURATION:PT1H
X-Robots-Tag:noindex
X-PUBLISHED-TTL:PT1H
BEGIN:VTIMEZONE
TZID:Europe/Madrid
BEGIN:DAYLIGHT
TZOFFSETFROM:+0100
TZOFFSETTO:+0200
TZNAME:CEST
DTSTART:20240331T010000
END:DAYLIGHT
BEGIN:STANDARD
TZOFFSETFROM:+0200
TZOFFSETTO:+0100
TZNAME:CET
DTSTART:20241027T010000
END:STANDARD
BEGIN:DAYLIGHT
TZOFFSETFROM:+0100
TZOFFSETTO:+0200
TZNAME:CEST
DTSTART:20250330T010000
END:DAYLIGHT
BEGIN:STANDARD
TZOFFSETFROM:+0200
TZOFFSETTO:+0100
TZNAME:CET
DTSTART:20251026T010000
END:STANDARD
BEGIN:DAYLIGHT
TZOFFSETFROM:+0100
TZOFFSETTO:+0200
TZNAME:CEST
DTSTART:20260329T010000
END:DAYLIGHT
BEGIN:STANDARD
TZOFFSETFROM:+0200
TZOFFSETTO:+0100
TZNAME:CET
DTSTART:20261025T010000
END:STANDARD
END:VTIMEZONE
BEGIN:VEVENT
DTSTART;TZID=Europe/Madrid:20250904T100000
DTEND;TZID=Europe/Madrid:20250904T110000
DTSTAMP:20260425T143416
CREATED:20250812T081907Z
LAST-MODIFIED:20250826T080414Z
UID:36342-1756980000-1756983600@www.kids-cluster.com
SUMMARY:Kick off Observatorio de familias
DESCRIPTION:KID’S CLUSTER impulsa el primer Observatorio de Familias con el objetivo de ofrecer datos actualizados\, detectar tendencias\, identificar necesidades emergentes y generar conocimiento sobre el sector infantil y familiar. El estudio analizará los cambios sociales\, culturales\, tecnológicos y económicos que afectan a las familias en Cataluña y en España\, y cómo estos impactan en el consumo\, la educación\, el ocio\, la salud y los estilos de vida. \nLa sesión de kick-off será un espacio de trabajo colaborativo donde explicaremos en detalle cómo se llevará a cabo el estudio —metodología\, calendario y fases— y donde co-crearemos conjuntamente las bases y las áreas temáticas que se quieran priorizar. El objetivo es garantizar que el Observatorio refleje los intereses y necesidades reales de los socios\, convirtiéndose en una herramienta estratégica para anticipar oportunidades y retos del sector. \n\nObjetivos de la sesión\n\nPresentar el propósito y el alcance del estudio que desarrollaremos con ATREVIA.\nCompartir la metodología propuesta y las áreas temáticas iniciales.\nCo-crear conjuntamente las bases conceptuales y el enfoque del proyecto.\nRecoger intereses\, necesidades y expectativas de los socios para garantizar que el estudio sea relevante y aplicable.\n\nPropuesta de agenda\n1. Bienvenida y contextualizaciónPresentación del Observatorio de Familias y del rol de los colaboradores. \n2. Presentación del estudio y metodologíaExplicación de las cuatro fases previstas: \n\nIntroducción a la metodología\, herramientas\, calendario y resultados esperados.\nAnálisis de tendencias y big data.\nInvestigación cualitativa\nInvestigación cuantitativa\nInforme final y recomendaciones\n\n3. Co-creando el mapa de interesesRevisión de los ámbitos de interés a analizar e identificación de prioridades de los socios y colaboradores: temáticas de interés\, preguntas clave a responder y oportunidades para las organizaciones. \n\n\n\n\n\nJuguetes y juegos\nEditoriales\nContenidos audiovisuales\nTurismo familiar\nEspacios y experiencias de ocio.\nMuseos\, espacios y experiencias culturales.\nEstilo de vida\n\n\n\n\nAlimentación y gastronomía\nServicios de aprendizaje y ocio educativo.\nMaterial escolar\nEdutech\nHigiene\, salud y cosmética.\nPuericultura\n\n\n\n\n\n4. Puesta en común y próximos pasosCierre con el resumen de los acuerdos\, definición de canales de seguimiento y posibles roles de colaboración durante el desarrollo del estudio. \n\nResultado esperado de la sesión\n\nLíneas temáticas priorizadas y consensuadas.\nLista de preguntas y focos específicos para el estudio.\nImplicación inicial de los colaboradores y visión compartida del proyecto.\n\n\n➕ Para conocer todos los detalles del proyecto\, descarga el 📄 Dossier informativo del Observatorio y descubre cómo esta iniciativa puede aportar valor a tu organización.\nForma parte del primer Observatorio de Familias de KID’S CLUSTER.\nSi quieres colaborar en el estudio y acceder a los resultados\, rellena el siguiente formulario: 👉 Quiero participar
URL:https://www.kids-cluster.com/es/activitats/kick-off-observatorio-de-familias/
CATEGORIES:Virtual
ATTACH;FMTTYPE=image/png:https://www.kids-cluster.com/wp-content/uploads/2025/08/20250904_KICK-OFF-OBSERVATORI-DE-FAMILIES.png
END:VEVENT
END:VCALENDAR