BEGIN:VCALENDAR
VERSION:2.0
PRODID:-//KIDS CLUSTER - ECPv6.15.20//NONSGML v1.0//EN
CALSCALE:GREGORIAN
METHOD:PUBLISH
X-WR-CALNAME:KIDS CLUSTER
X-ORIGINAL-URL:https://www.kids-cluster.com/es/
X-WR-CALDESC:Eventos para KIDS CLUSTER
REFRESH-INTERVAL;VALUE=DURATION:PT1H
X-Robots-Tag:noindex
X-PUBLISHED-TTL:PT1H
BEGIN:VTIMEZONE
TZID:Europe/Madrid
BEGIN:DAYLIGHT
TZOFFSETFROM:+0100
TZOFFSETTO:+0200
TZNAME:CEST
DTSTART:20240331T010000
END:DAYLIGHT
BEGIN:STANDARD
TZOFFSETFROM:+0200
TZOFFSETTO:+0100
TZNAME:CET
DTSTART:20241027T010000
END:STANDARD
BEGIN:DAYLIGHT
TZOFFSETFROM:+0100
TZOFFSETTO:+0200
TZNAME:CEST
DTSTART:20250330T010000
END:DAYLIGHT
BEGIN:STANDARD
TZOFFSETFROM:+0200
TZOFFSETTO:+0100
TZNAME:CET
DTSTART:20251026T010000
END:STANDARD
BEGIN:DAYLIGHT
TZOFFSETFROM:+0100
TZOFFSETTO:+0200
TZNAME:CEST
DTSTART:20260329T010000
END:DAYLIGHT
BEGIN:STANDARD
TZOFFSETFROM:+0200
TZOFFSETTO:+0100
TZNAME:CET
DTSTART:20261025T010000
END:STANDARD
END:VTIMEZONE
BEGIN:VEVENT
DTSTART;TZID=Europe/Madrid:20250116T110000
DTEND;TZID=Europe/Madrid:20250116T120000
DTSTAMP:20260426T015600
CREATED:20241217T120118Z
LAST-MODIFIED:20250115T151034Z
UID:34563-1737025200-1737028800@www.kids-cluster.com
SUMMARY:PPK: Noves oportunitats al programa ERASMUS+
DESCRIPTION:Com a primera activitat de l’any\, des de la Plataforma de Projectes KID’S hem organitzat una sessió informativa amb el suport de Núria Soler\, Senior consultant for European R+D programmes in culture\, creativity and social inclusió a ACCIO\, per presentar-vos les noves oportunitats de finançament en el marc del programa ERASMUS+2025. \nAquest programa és una iniciativa de la Unió Europea destinada a donar suport a l’educació\, la formació\, la joventut i l’esport a Europa mitjançant l’execució de projectes innovadors en aquests àmbits. Durant la sessió\, explorarem les línies de suport disponibles\, els requisits de participació i la presentació d’algun cas d’èxit. \n🎯 Què t’espera:\n\n\n\nConèixer en què consisteix la Key Action 2: cooperació entre organitzacions i institucions per poder executar projectes transformadors en l’àmbit de l’educació\, la formació i l’esport.\nDescobreix el servei de la Plataforma de Projectes KID’S i com us podem acompanyar a desenvolupar projectes dins d’aquest programa.\n\n\n\n📋Programa\n\nBenvinguda\nPresentació de la convocatoria ERASMUS+ a càrrec de Núria Soler\, Senior consultant for European R+D programmes in culture\, creativity and social inclusió a ACCIÓ\nProjecte Domitia (Erasmus+ KA210) a càrrec de Laura Calabuig\, Responsable de projectes Europeus de la Fundació Catalana de l’Esplai (Fundesplai)\n\n  \n🙋‍♀️T’interessa si…\n\nVols conèixer noves opcions de finançament per als teus projectes d’innovació en el sector de l’educació i la formació.\nVols desenvolupar iniciatives innovadores en l’àmbit de la joventut i l’esport.\nVols impulsar un projecte relacionat amb l’educació\, la formació.\n\n 
URL:https://www.kids-cluster.com/es/activitats/ppk-noves-oportunitats-al-programa-erasmus/
CATEGORIES:Virtual
ATTACH;FMTTYPE=image/png:https://www.kids-cluster.com/wp-content/uploads/2024/12/20250116_ppk-erasmus.png
END:VEVENT
END:VCALENDAR