BEGIN:VCALENDAR
VERSION:2.0
PRODID:-//KIDS CLUSTER - ECPv6.15.20//NONSGML v1.0//EN
CALSCALE:GREGORIAN
METHOD:PUBLISH
X-WR-CALNAME:KIDS CLUSTER
X-ORIGINAL-URL:https://www.kids-cluster.com/es/
X-WR-CALDESC:Eventos para KIDS CLUSTER
REFRESH-INTERVAL;VALUE=DURATION:PT1H
X-Robots-Tag:noindex
X-PUBLISHED-TTL:PT1H
BEGIN:VTIMEZONE
TZID:Europe/Madrid
BEGIN:DAYLIGHT
TZOFFSETFROM:+0100
TZOFFSETTO:+0200
TZNAME:CEST
DTSTART:20250330T010000
END:DAYLIGHT
BEGIN:STANDARD
TZOFFSETFROM:+0200
TZOFFSETTO:+0100
TZNAME:CET
DTSTART:20251026T010000
END:STANDARD
BEGIN:DAYLIGHT
TZOFFSETFROM:+0100
TZOFFSETTO:+0200
TZNAME:CEST
DTSTART:20260329T010000
END:DAYLIGHT
BEGIN:STANDARD
TZOFFSETFROM:+0200
TZOFFSETTO:+0100
TZNAME:CET
DTSTART:20261025T010000
END:STANDARD
BEGIN:DAYLIGHT
TZOFFSETFROM:+0100
TZOFFSETTO:+0200
TZNAME:CEST
DTSTART:20270328T010000
END:DAYLIGHT
BEGIN:STANDARD
TZOFFSETFROM:+0200
TZOFFSETTO:+0100
TZNAME:CET
DTSTART:20271031T010000
END:STANDARD
END:VTIMEZONE
BEGIN:VEVENT
DTSTART;TZID=Europe/Madrid:20260317T100000
DTEND;TZID=Europe/Madrid:20260317T100000
DTSTAMP:20260425T030911
CREATED:20260224T094435Z
LAST-MODIFIED:20260310T090700Z
UID:37991-1773741600-1773741600@www.kids-cluster.com
SUMMARY:Benestar digital infantil: reptes per al sector
DESCRIPTION:El proper 17 de març de 2026 a les 10:00 h\, l’EduTech Cluster i el KID’S CLUSTER organitzem una jornada conjunta per abordar la seguretat infantil i l’ús responsable de les eines digitals educatives. \n \nLa tecnologia forma part del dia a dia dels infants. Però… estem garantint entorns digitals realment segurs? \n\n\n\n\n\nDurant la sessió parlarem de: \n\nSeguretat en l’ús de la tecnologia en el context infantil\nBones pràctiques en eines digitals educatives\nProtecció de dades i privacitat dels menors\nCultura digital responsable\nReptes compartits entre el sector educatiu i el sector infantil\n\nUna sessió orientada a solucions i a generar connexions amb impacte real. \nSi estàs interessat/da a participar-hi\, inscriu-te aquí! \nT’hi esperem!
URL:https://www.kids-cluster.com/es/activitats/benestar-digital-infantil-reptes-per-al-sector/
CATEGORIES:Virtual
ATTACH;FMTTYPE=image/png:https://www.kids-cluster.com/wp-content/uploads/2026/02/20250403_gt-vc-i-sostenibilitat-2-1.png
END:VEVENT
END:VCALENDAR