BEGIN:VCALENDAR
VERSION:2.0
PRODID:-//KIDS CLUSTER - ECPv6.15.20//NONSGML v1.0//EN
CALSCALE:GREGORIAN
METHOD:PUBLISH
X-ORIGINAL-URL:https://www.kids-cluster.com/es/
X-WR-CALDESC:Eventos para KIDS CLUSTER
REFRESH-INTERVAL;VALUE=DURATION:PT1H
X-Robots-Tag:noindex
X-PUBLISHED-TTL:PT1H
BEGIN:VTIMEZONE
TZID:Europe/Madrid
BEGIN:DAYLIGHT
TZOFFSETFROM:+0100
TZOFFSETTO:+0200
TZNAME:CEST
DTSTART:20240331T010000
END:DAYLIGHT
BEGIN:STANDARD
TZOFFSETFROM:+0200
TZOFFSETTO:+0100
TZNAME:CET
DTSTART:20241027T010000
END:STANDARD
BEGIN:DAYLIGHT
TZOFFSETFROM:+0100
TZOFFSETTO:+0200
TZNAME:CEST
DTSTART:20250330T010000
END:DAYLIGHT
BEGIN:STANDARD
TZOFFSETFROM:+0200
TZOFFSETTO:+0100
TZNAME:CET
DTSTART:20251026T010000
END:STANDARD
BEGIN:DAYLIGHT
TZOFFSETFROM:+0100
TZOFFSETTO:+0200
TZNAME:CEST
DTSTART:20260329T010000
END:DAYLIGHT
BEGIN:STANDARD
TZOFFSETFROM:+0200
TZOFFSETTO:+0100
TZNAME:CET
DTSTART:20261025T010000
END:STANDARD
END:VTIMEZONE
BEGIN:VEVENT
DTSTART;TZID=Europe/Madrid:20250326T093000
DTEND;TZID=Europe/Madrid:20250326T140000
DTSTAMP:20260425T200946
CREATED:20250205T164506Z
LAST-MODIFIED:20250313T085249Z
UID:35092-1742981400-1742997600@www.kids-cluster.com
SUMMARY:ASSEMBLEA GENERAL 2025
DESCRIPTION:Un any més\, arriba una de les trobades més importants i estratègiques de KID’S CLUSTER\, l’Assemblea General. Un esdeveniment clau on convidem a tots els membres del clúster a reflexionar conjuntament sobre l’entitat\, el futur del sector i els reptes que compartim.  És el moment de retrobar-nos amb els companys que ja coneixem\, de posar cara a les noves incorporacions i de treballar plegats.\n  \nPrograma\n9:30 – 10:00 Acreditacions i cafè de benvinguda \n10:00 – 13:00 Assemblea General \n13:00 – 14:00 Aperitiu Networking \n  \nOrdre del dia:\n\nLectura i aprovació de l’acta de la sessió anterior.\nPresentació de nous socis.\nPresentació del pla d’actuacions.\nPresentació i aprovació de comptes anuals de l’exercici 2024.\nPresentació i aprovació del pressupost de l’exercici 2025.\nTorn obert de paraules.\n\n\n  \n📅Data: 26/03/2025\n📍Lloc: Auditori pati Manning\, Barcelona
URL:https://www.kids-cluster.com/es/activitats/assemblea-general-2025/
CATEGORIES:Presencial
ATTACH;FMTTYPE=image/png:https://www.kids-cluster.com/wp-content/uploads/2025/02/20250326_Assemblea-general-kids-cluster.png
END:VEVENT
END:VCALENDAR