BEGIN:VCALENDAR
VERSION:2.0
PRODID:-//KIDS CLUSTER - ECPv6.15.20//NONSGML v1.0//EN
CALSCALE:GREGORIAN
METHOD:PUBLISH
X-WR-CALNAME:KIDS CLUSTER
X-ORIGINAL-URL:https://www.kids-cluster.com/es/
X-WR-CALDESC:Eventos para KIDS CLUSTER
REFRESH-INTERVAL;VALUE=DURATION:PT1H
X-Robots-Tag:noindex
X-PUBLISHED-TTL:PT1H
BEGIN:VTIMEZONE
TZID:Europe/Madrid
BEGIN:DAYLIGHT
TZOFFSETFROM:+0100
TZOFFSETTO:+0200
TZNAME:CEST
DTSTART:20230326T010000
END:DAYLIGHT
BEGIN:STANDARD
TZOFFSETFROM:+0200
TZOFFSETTO:+0100
TZNAME:CET
DTSTART:20231029T010000
END:STANDARD
BEGIN:DAYLIGHT
TZOFFSETFROM:+0100
TZOFFSETTO:+0200
TZNAME:CEST
DTSTART:20240331T010000
END:DAYLIGHT
BEGIN:STANDARD
TZOFFSETFROM:+0200
TZOFFSETTO:+0100
TZNAME:CET
DTSTART:20241027T010000
END:STANDARD
BEGIN:DAYLIGHT
TZOFFSETFROM:+0100
TZOFFSETTO:+0200
TZNAME:CEST
DTSTART:20250330T010000
END:DAYLIGHT
BEGIN:STANDARD
TZOFFSETFROM:+0200
TZOFFSETTO:+0100
TZNAME:CET
DTSTART:20251026T010000
END:STANDARD
END:VTIMEZONE
BEGIN:VEVENT
DTSTART;TZID=Europe/Madrid:20241114T090000
DTEND;TZID=Europe/Madrid:20241114T223000
DTSTAMP:20260426T015722
CREATED:20241020T070804Z
LAST-MODIFIED:20241111T125025Z
UID:34168-1731574800-1731623400@www.kids-cluster.com
SUMMARY:KID'S INNOVATION FEST: L'edició del canvi
DESCRIPTION:El KID’S INNOVATION FEST torna el 14 de novembre amb la seva setena edició\, sota el lema L’Edició del Canvi. Un espai per a professionals compromesos amb la infància per a reflexionar i aprendre sobre l’actualitat i el futur del sector\, compartir reptes i descobrir oportunitats de col·laboració que connectin amb les noves generacions. \nAquesta edició ens porta a repensar com les marques\, els professionals i les organitzacions del sector infantil i familiar poden adaptar-se i prosperar en un món en constant evolució. Enguany\, no sols actualitzem la nostra estratègia; redefinim el concepte del que significa estar a l’avantguarda en un món en constant transformació. \nEstem en un moment clau\, on els canvis globals\, tecnològics i socials ens conviden a reimaginar com les marques\, les organitzacions i els professionals del sector connecten amb les noves generacions. \nAprèn\, experimenta\, comparteix reptes i crea oportunitats de negoci durant les Expert Talks del #KIF24. A través de microponències\, taules rodones\, debats i casos d’èxit que oferiran una visió completa de com abordar els canvis que estan transformant el sector infantil i familiar. \n🎫Consulta el programa i aconsegueix la teva entrada a www.kidsinnovationfest.com
URL:https://www.kids-cluster.com/es/activitats/kids-innovation-fest-2024/
LOCATION:Hotel Marina Badalona\, Avinguda d'Eduard Maristany\, 227\, 08912 Badalona\, Barcelona\, Badalona\, Barcelona\, 08912\, Espanya
CATEGORIES:Presencial
ATTACH;FMTTYPE=image/png:https://www.kids-cluster.com/wp-content/uploads/2024/11/KC2024_Banners-WEBNEWS-2023-24_update-6.png
END:VEVENT
END:VCALENDAR