BEGIN:VCALENDAR
VERSION:2.0
PRODID:-//KIDS CLUSTER - ECPv6.15.20//NONSGML v1.0//EN
CALSCALE:GREGORIAN
METHOD:PUBLISH
X-WR-CALNAME:KIDS CLUSTER
X-ORIGINAL-URL:https://www.kids-cluster.com/es/
X-WR-CALDESC:Eventos para KIDS CLUSTER
REFRESH-INTERVAL;VALUE=DURATION:PT1H
X-Robots-Tag:noindex
X-PUBLISHED-TTL:PT1H
BEGIN:VTIMEZONE
TZID:Europe/Madrid
BEGIN:DAYLIGHT
TZOFFSETFROM:+0100
TZOFFSETTO:+0200
TZNAME:CEST
DTSTART:20230326T010000
END:DAYLIGHT
BEGIN:STANDARD
TZOFFSETFROM:+0200
TZOFFSETTO:+0100
TZNAME:CET
DTSTART:20231029T010000
END:STANDARD
BEGIN:DAYLIGHT
TZOFFSETFROM:+0100
TZOFFSETTO:+0200
TZNAME:CEST
DTSTART:20240331T010000
END:DAYLIGHT
BEGIN:STANDARD
TZOFFSETFROM:+0200
TZOFFSETTO:+0100
TZNAME:CET
DTSTART:20241027T010000
END:STANDARD
BEGIN:DAYLIGHT
TZOFFSETFROM:+0100
TZOFFSETTO:+0200
TZNAME:CEST
DTSTART:20250330T010000
END:DAYLIGHT
BEGIN:STANDARD
TZOFFSETFROM:+0200
TZOFFSETTO:+0100
TZNAME:CET
DTSTART:20251026T010000
END:STANDARD
END:VTIMEZONE
BEGIN:VEVENT
DTSTART;TZID=Europe/Madrid:20241029T100000
DTEND;TZID=Europe/Madrid:20241029T110000
DTSTAMP:20260426T020614
CREATED:20241009T114153Z
LAST-MODIFIED:20241009T114451Z
UID:33680-1730196000-1730199600@www.kids-cluster.com
SUMMARY:Noves oportunitats Next Generation
DESCRIPTION:Des de la plataforma de projectes KIDS hem organitzat una sessió informativa a càrrec de Mònica Prats\, Consultora sènior de l’Oficina Next Generation EU d’ACCIO per presentar-vos noves oportunitats de finançament: \n\nNou KIT Consulting i KIT Digital: Coneix el nou programa que d’ajuts que permet a pimes dissenyar un full de ruta per al seva transformció digital.\nAjut promoció del sector del videojoc i altres formes de creació digital– finançada pel Ministerio de Cultura y Deporte\nAjuts per a la transformació digital dels sectors productius estratègics mitjançant la creació de demostradors i Compartició de Dades 2024– finançada pel Ministerio para la Transformación Digital y de la Función Pública\n\nQuè t’espera:\n\n\n\nConèix en què consisteixen aquestes línies de finançament i com et pots beneficiar\n\n\nDescobreix el servei de la Plataforma de Projectes KID’S i com us podem acompanyar a desenvolupar projectes dins d’aquest programa.\n\n\n\nT’interessa si…\n\nVols conèixer noves opcions de finançament per als teus projectes d’innovació\nVols impulsar un projecte relacionat amb el sector de continguts digitals audiovisuals.
URL:https://www.kids-cluster.com/es/activitats/ppk-next-gen-digital/
CATEGORIES:Virtual
ATTACH;FMTTYPE=image/png:https://www.kids-cluster.com/wp-content/uploads/2024/10/20241029_ppk-next-gen.png
END:VEVENT
END:VCALENDAR