BEGIN:VCALENDAR
VERSION:2.0
PRODID:-//KIDS CLUSTER - ECPv6.15.20//NONSGML v1.0//EN
CALSCALE:GREGORIAN
METHOD:PUBLISH
X-ORIGINAL-URL:https://www.kids-cluster.com/es/
X-WR-CALDESC:Eventos para KIDS CLUSTER
REFRESH-INTERVAL;VALUE=DURATION:PT1H
X-Robots-Tag:noindex
X-PUBLISHED-TTL:PT1H
BEGIN:VTIMEZONE
TZID:Europe/Madrid
BEGIN:DAYLIGHT
TZOFFSETFROM:+0100
TZOFFSETTO:+0200
TZNAME:CEST
DTSTART:20230326T010000
END:DAYLIGHT
BEGIN:STANDARD
TZOFFSETFROM:+0200
TZOFFSETTO:+0100
TZNAME:CET
DTSTART:20231029T010000
END:STANDARD
BEGIN:DAYLIGHT
TZOFFSETFROM:+0100
TZOFFSETTO:+0200
TZNAME:CEST
DTSTART:20240331T010000
END:DAYLIGHT
BEGIN:STANDARD
TZOFFSETFROM:+0200
TZOFFSETTO:+0100
TZNAME:CET
DTSTART:20241027T010000
END:STANDARD
BEGIN:DAYLIGHT
TZOFFSETFROM:+0100
TZOFFSETTO:+0200
TZNAME:CEST
DTSTART:20250330T010000
END:DAYLIGHT
BEGIN:STANDARD
TZOFFSETFROM:+0200
TZOFFSETTO:+0100
TZNAME:CET
DTSTART:20251026T010000
END:STANDARD
END:VTIMEZONE
BEGIN:VEVENT
DTSTART;TZID=Europe/Madrid:20241024T100000
DTEND;TZID=Europe/Madrid:20241024T110000
DTSTAMP:20260426T033302
CREATED:20241018T083049Z
LAST-MODIFIED:20241018T083821Z
UID:33845-1729764000-1729767600@www.kids-cluster.com
SUMMARY:GRUP DE TREBALL D'INTERNACIONALITZACIÓ
DESCRIPTION:Aquest Grup de Treball busca connectar internacionalment el sector infantil i familiar\, fer seguiment dels esdeveniments\, fires i congressos internacionals d’interès per a qualsevol àmbit del sector infantil\, i fer propostes de missions agrupades\, assistència a fires\, i sessions amb experts en internacionalització i accés a nous mercats.\nAquest any el grup de treball de tendències té com a objectius:\n\nDetectar fires internacionals d’interès\nExplorar altres mercats internacionals\nOrganitzar missions agrupades a països estratègics\nEstablir aliançes amb partners internacionals\nFacilitar la trobada i l’intercanvi d’idees entre les organitzacions del sector infantil i familiar.\nCocreació de propostes per a l’elaboració de projectes comuns a nivell regional\, nacional i europeu.\n\nPrograma de la sessió:\n\nBenvinguda\nPròximes activitats del clúster\nPresentació del Grup de Treball d’Internacionalització\nAccions impulsades: Actualització del Projecte Europeu KIDS\nPròximes activitats i missions internacionals per el 2025\nTancament sessió\n\nA qui va dirigit?\nA totes aquelles empreses sòcies de KID’S CLUSTER que vulguin internacionalitzar-se\, explorar nous mercats i establir aliances amb partners internacionals
URL:https://www.kids-cluster.com/es/activitats/grup-de-treball-internacionalitzacio-10-2024/
CATEGORIES:Virtual
ATTACH;FMTTYPE=image/png:https://www.kids-cluster.com/wp-content/uploads/2024/10/20241124_GT_INTERNACIONALITZACIO.png
END:VEVENT
END:VCALENDAR