BEGIN:VCALENDAR
VERSION:2.0
PRODID:-//KIDS CLUSTER - ECPv6.15.20//NONSGML v1.0//EN
CALSCALE:GREGORIAN
METHOD:PUBLISH
X-ORIGINAL-URL:https://www.kids-cluster.com/en/
X-WR-CALDESC:Events for KIDS CLUSTER
REFRESH-INTERVAL;VALUE=DURATION:PT1H
X-Robots-Tag:noindex
X-PUBLISHED-TTL:PT1H
BEGIN:VTIMEZONE
TZID:Europe/Madrid
BEGIN:DAYLIGHT
TZOFFSETFROM:+0100
TZOFFSETTO:+0200
TZNAME:CEST
DTSTART:20240331T010000
END:DAYLIGHT
BEGIN:STANDARD
TZOFFSETFROM:+0200
TZOFFSETTO:+0100
TZNAME:CET
DTSTART:20241027T010000
END:STANDARD
BEGIN:DAYLIGHT
TZOFFSETFROM:+0100
TZOFFSETTO:+0200
TZNAME:CEST
DTSTART:20250330T010000
END:DAYLIGHT
BEGIN:STANDARD
TZOFFSETFROM:+0200
TZOFFSETTO:+0100
TZNAME:CET
DTSTART:20251026T010000
END:STANDARD
BEGIN:DAYLIGHT
TZOFFSETFROM:+0100
TZOFFSETTO:+0200
TZNAME:CEST
DTSTART:20260329T010000
END:DAYLIGHT
BEGIN:STANDARD
TZOFFSETFROM:+0200
TZOFFSETTO:+0100
TZNAME:CET
DTSTART:20261025T010000
END:STANDARD
END:VTIMEZONE
BEGIN:VEVENT
DTSTART;TZID=Europe/Madrid:20250709T100000
DTEND;TZID=Europe/Madrid:20250709T110000
DTSTAMP:20260425T132058
CREATED:20250702T100926Z
LAST-MODIFIED:20250703T144013Z
UID:36015-1752055200-1752058800@www.kids-cluster.com
SUMMARY:Oportunitats per a projectes col·laboratius d'innovació
DESCRIPTION:En el marc de la Plataforma de Projectes\, l’espai que actua com a observatori d’oportunitats de convocatòries de finançament públic i suport en l’impuls  de projectes col·laboratius\, us convidem a una nova sessió informativa de la Plataforma de Projectes KID’S per a presentar-vos les pròximes convocatòries que s’obriràn aquest mes de juliol en el marc de les AEI i d’ACCIÓ.\n\nObjectiu de la sessió\nEn aquesta sessió\, identificarem propostes i reptes compartits entre les entitats sòcies per a desenvolupar projectes col·laboratius d’innovació\, aprofitant les línies de finançament públiques que s’obriran aquest juliol. \n\nConvocatòries destacades\n📌Programa empresarial per a zones de transició nuclear (ACCIÓ) \nPresentarem les línies del nou programa d’ajuts per al creixement empresarial a zones de transició nuclear: \n\nLínia 1: Projectes d’inversió empresarial\nLínia 2: Creació d’ocupació\nLínia 3: Nous projectes de creixement i oportunitats de negoci\nLínia 4: Projectes cooperatius\nLínia 5: Projectes d’emprenedoria d’alt valor afegit\nLínia 6: Projectes d’innovació tecnològica\n\n\n  \n📌Projectes de canvi estratègic i creixement (ACCIÓ) \nTambé us informarem sobre la línia de suport a projectes de canvi estratègic i creixement per a clústers i empreses\, una oportunitat clau per als projectes liderats des del KID’S CLUSTER. \n\n📌Agrupacions Empresarials Innovadores (AEI-MINCOTUR) \nAjuts per a projectes transformadors que donen suport a les iniciatives empresarials per la transició ecològica\, la transformació digital\, la indústria 4.0\, la transferència de coneixement i les tecnologies digitals. \nTots els membres de KID’S CLUSTER esteu acreditats com AEI\, fet que us permet accedir directament als ajuts a través del clúster. \n\nConvocatòria ordinària: Pendent d’obrir-se al juliol\, amb un pressupost de 8 milions d’euros\nConvocatòria extraordinària: Prevista al setembre\, amb 5 milions d’euros i enfocament en projectes orientats a reptes estratègics\n\n  \nUna sessió per :\n\nConèixer el servei de la Plataforma de Projectes KID’S i com us pot acompanyar a desenvolupar projectes dins d’aquest programa.\nEntendre en què consisteixen aquestes convocatòries  i quines són les condicions de participació.\nDetectar propostes i projectes col·laboratius per a presentar.\nPresentar les teves propostes de projecte i/o detectar oportunitats de participar en projectes col·laboratius transformadors en propostes d’altres socis.\n\n  \nT’interessa si:\n\nVols impulsar un projecte col·laboratiu d’innovació\nTens una idea de projecte innovador i necessites trobar els partners adequats per a realitzar-ho\nVols conèixer noves opcions de finançament dels teus projectes d’innovació col·laborativa a través de la teva participació en el clúster\n\n  \nT’agradaria impulsar o participar en un projecte d’innovació? Participa en la sessió!
URL:https://www.kids-cluster.com/en/activitats/ppk-oportunitats-projectes-collaboratius-innovacio/
CATEGORIES:Virtual
ATTACH;FMTTYPE=image/png:https://www.kids-cluster.com/wp-content/uploads/2025/07/20250709_PPK-projectes-AEI-i-ACCIO.png
END:VEVENT
BEGIN:VEVENT
DTSTART;TZID=Europe/Madrid:20250715T100000
DTEND;TZID=Europe/Madrid:20250715T110000
DTSTAMP:20260425T132058
CREATED:20250702T134242Z
LAST-MODIFIED:20250731T132022Z
UID:36031-1752573600-1752577200@www.kids-cluster.com
SUMMARY:Estudi: Evolució de les Famílies
DESCRIPTION:Des del Grup de Treball de Tendències de KID’S CLUSTER\, us convidem a participar en una sessió exclusiva on presentarem en primícia el nou estudi sobre l’evolució de les famílies. Es tracta d’un projecte compartit per actualitzar les dades clau del sector infantil\, identificar noves tendències socials i generar coneixement estratègic per orientar la innovació de les empreses del sector. \nL’estudi analitzarà com han evolucionat les famílies a Catalunya i a Espanya en els darrers 15 anys: com han canviat les seves estructures\, valors\, hàbits i expectatives; i com aquests canvis han afectat la manera com infants i adolescents creixen en un entorn marcat per grans transformacions socials\, digitals i culturals. \nAnalitzarem com aquestes transformacions impacten directament en diversos àmbits del sector kids & family: \n\nJocs i joguines\nContinguts audiovisuals\nOferta i espais de lleure\nTurisme familiar\nAlimentació i gastronomia\nEducació\nHigiene i salut\nModa infantil\nHàbitat i entorn domèstic\nPuericultura\nEditorials infantils\nMaterial escolar\nComunicació i màrqueting\n\nObjectius de l’estudi\n\nOferir dades actualitzades i rellevants sobre les famílies.\nDetectar noves tendències en consum\, educació\, benestar i relacions familiars.\nAnticipar necessitats emergents i descobrir oportunitats d’innovació.\nIdentificar accions estratègiques específiques per al sector.\n\n  \nQue t’espera en aquesta sessió:\n\nPresentarem l’estudi i la seva metodologia\nRecollirem interessos i inquietuds de les entitats sòcies\n\n  \nSi t’interessa formar part de l’elaboració de l’estudi i tenir-ne els resultats\, no et perdis aquesta sessió.
URL:https://www.kids-cluster.com/en/activitats/evolucio-de-les-families-presentacio-nou-estudi/
ATTACH;FMTTYPE=image/png:https://www.kids-cluster.com/wp-content/uploads/2025/07/20250715_gt-tendencies.png
END:VEVENT
END:VCALENDAR