BEGIN:VCALENDAR
VERSION:2.0
PRODID:-//KIDS CLUSTER - ECPv6.15.20//NONSGML v1.0//EN
CALSCALE:GREGORIAN
METHOD:PUBLISH
X-ORIGINAL-URL:https://www.kids-cluster.com/en/
X-WR-CALDESC:Events for KIDS CLUSTER
REFRESH-INTERVAL;VALUE=DURATION:PT1H
X-Robots-Tag:noindex
X-PUBLISHED-TTL:PT1H
BEGIN:VTIMEZONE
TZID:Europe/Madrid
BEGIN:DAYLIGHT
TZOFFSETFROM:+0100
TZOFFSETTO:+0200
TZNAME:CEST
DTSTART:20230326T010000
END:DAYLIGHT
BEGIN:STANDARD
TZOFFSETFROM:+0200
TZOFFSETTO:+0100
TZNAME:CET
DTSTART:20231029T010000
END:STANDARD
BEGIN:DAYLIGHT
TZOFFSETFROM:+0100
TZOFFSETTO:+0200
TZNAME:CEST
DTSTART:20240331T010000
END:DAYLIGHT
BEGIN:STANDARD
TZOFFSETFROM:+0200
TZOFFSETTO:+0100
TZNAME:CET
DTSTART:20241027T010000
END:STANDARD
BEGIN:DAYLIGHT
TZOFFSETFROM:+0100
TZOFFSETTO:+0200
TZNAME:CEST
DTSTART:20250330T010000
END:DAYLIGHT
BEGIN:STANDARD
TZOFFSETFROM:+0200
TZOFFSETTO:+0100
TZNAME:CET
DTSTART:20251026T010000
END:STANDARD
END:VTIMEZONE
BEGIN:VEVENT
DTSTART;TZID=Europe/Madrid:20240916T100000
DTEND;TZID=Europe/Madrid:20240916T133000
DTSTAMP:20260426T062647
CREATED:20240905T080723Z
LAST-MODIFIED:20240905T091313Z
UID:33202-1726480800-1726493400@www.kids-cluster.com
SUMMARY:TECNOLOGIES IMMERSIVES I EDUCACIÓ
DESCRIPTION:Gaudeix d’una experiència immersiva a través del coneixement\, la realitat virtual i un viatge sensorial al Dali Challenge!\nViure experiències en primera persona és la clau per generar un impacte profund en les persones. Les tecnologies immersives multipliquen aquest impacte per quatre\, millorant significativament l’atenció i la concentració tant de joves com d’adults.\nEn aquesta sessió\, no només descobrirem\, sinó que també experimentarem com aquestes tecnologies poden transformar els entorns educatius. SeedsXR\, especialistes en la creació de continguts educatius i formatius\, treballen per millorar l’estat emocional i el benestar de nens\, joves i també en entorns laborals. \nDilluns 16 de setembre\, organitzacions i empreses del sector infantil familiar esteu convidades a participar a la sessió “Tecnologies immersives i educació” per conèixer i experimentar de primera mà les novetats en tecnologies immersives en el sector educatiu. A més\, tindreu accés a una visita guiada a l’experiència immersiva Dalí Challenge\, un viatge sensorial a l’univers del artista més enigmàtic del segle XX. \n  \nPrograma de la sessió\n\n09:45 – 10:00  Arribada i acreditacions\n10:00 – 10:10   Benvinguda –  Anna López\, directora de KID’S CLUSTER\n10:10 – 10:45   Tecnologies immersives i educació: Aprèn sobre les tecnologies immersives i el seu potencial en l’àmbit educatiu amb Pau Font\, director d’educació i formació de SeedsXR. \n10:45 – 11:00   Projectes SeedsXR. – Alvaro Prades\, CEO i Cofundador de SeedsXR. Coneix els projectes de SeedsXR i explora oportunitats de col·laboració.\n11:00 – 12:00   Experiència immersiva de Realitat Virtual. Experimenta de primera mà la tecnologia VR amb un projecte de SeedsXR.\n12:00 – 12:30   Coffe break i networking\n12:30 – 13:30   Visita a l’experiència Dalí Challenge. Una exposició única on art i tecnologia s’uneixen per poder conèixer la vida i obra de Dalí\, el geni del Surrealisme\, d’una manera totalment immersiva\n\nQuè et proposem?\n\nDescobreix el Futur de l’Educació: Experimenta com les tecnologies immersives poden revolucionar l’aprenentatge\, augmentant la concentració i la retenció d’informació tant en joves com en adults.\nParticipa en un Taller Pràctic de VR: Viu de primera mà com és submergir-se en una experiència educativa amb realitat virtual\, utilitzant ulleres VR en un entorn segur i educatiu.\nExplora el Dalí Challenge: Gaudeix d’una visita immersiva al Dalí Challenge\, una experiència interactiva que combina art i tecnologia per desafiar la teva percepció i creativitat.\n\n\nResum de l’activitat\n\n📍Reial Cercle Artístic de Barcelona (Carrer dels Arcs\, 5\, Ciutat Vella\, 08002 Barcelona)\n📅 16 de setembre del 2024\n🕧 10:00h – 13:30h\n🗣 Dirigit a docents\, empreses i administracions públiques (places limitades)
URL:https://www.kids-cluster.com/en/activitats/tecnologies-immersives-i-educacio/
LOCATION:Reial Cercle Artístic de Barcelona\, Carrer dels Arcs\, 5\, Barcelona\, 08002\, Espanya
CATEGORIES:Presencial
ATTACH;FMTTYPE=image/png:https://www.kids-cluster.com/wp-content/uploads/2024/09/SEED-XR-DALI-3.png
END:VEVENT
BEGIN:VEVENT
DTSTART;TZID=Europe/Madrid:20240927T100000
DTEND;TZID=Europe/Madrid:20240927T110000
DTSTAMP:20260426T062647
CREATED:20240920T085333Z
LAST-MODIFIED:20240920T091613Z
UID:33430-1727431200-1727434800@www.kids-cluster.com
SUMMARY:GRUP DE TREBALL D'EDUCACIÓ
DESCRIPTION:Nova sessió del Grup de Treball d’Educació.\nSer membre del grup de treball d’educació implica generar connexions amb el sector i detectar oportunitats de col·laboració amb socis i altres actors de l’ecosistema educatiu\, com personal docent i centres escolars.  \nEl GT d’educació és l’oportunitat dels socis de KID’S CLUSTER per a liderar les principals accions de caire educatiu que durem a terme aquest any.  \n  \nQue t’espera? \n🚀 Propostes de pròximes activitats: Explorarem noves iniciatives per dinamitzar la participació i impulsar la innovació dins del sector educatiu. \n📕Debatrem sobre com posar en valor i difondre les propostes innovadores dels associats de KID’S CLUSTER . \n🔎 Activitats i fires 2025: Analitzarem les activitats que vol impulsar el grup de treball i les fires i esdeveniments més rellevants de 2025 per seleccionar aquells de major interès per a l’ecosistema i planificar la nostra participació. \n  \nT’interessa si… \n\nEts una organització associada a KID’S CLUSTER.\nVols conèixer les principals i més actuals tendències del sector educatiu.\nT’interessen les novetats del sector\, tant a nivell nacional com internacional.\n\n  \nEl grup de treball d’educació té com a objectius principals:  \n\nFacilitar la trobada i l’intercanvi d’idees entre els diferents actors de l’entorn educatiu\, promovent la col·laboració entre institucions\, empreses i professionals del sector. \n\n\nCocreació de propostes per a l’elaboració de projectes comuns\, fomentant la innovació conjunta i el desenvolupament de noves iniciatives que responguin a les necessitats actuals i futures del sector. \n\n\nInvestigar i abordar les tendències emergents en el camp de l’educació\, analitzant els canvis i avenços que poden influir en les pràctiques educatives. \n\n\nVisitar fires d’interès relacionades amb l’educació\, tant a nivell nacional com internacional\, per mantenir-se al corrent de les novetats del sector. \n\n  \nResum de l’activitat\n\n📍Zoom (online)\n📅 27 de setembre del 2024\n🕧 10:00h – 11:00h\n🗣 Dirigit a socis de KID’S CLUSTER\n\n  \n 
URL:https://www.kids-cluster.com/en/activitats/grup-de-treball-deducacio-2/
CATEGORIES:Virtual
ATTACH;FMTTYPE=image/png:https://www.kids-cluster.com/wp-content/uploads/2024/09/20240411_GT_EDUCACIO-3.png
END:VEVENT
END:VCALENDAR