BEGIN:VCALENDAR
VERSION:2.0
PRODID:-//KIDS CLUSTER - ECPv6.15.20//NONSGML v1.0//EN
CALSCALE:GREGORIAN
METHOD:PUBLISH
X-ORIGINAL-URL:https://www.kids-cluster.com/en/
X-WR-CALDESC:Events for KIDS CLUSTER
REFRESH-INTERVAL;VALUE=DURATION:PT1H
X-Robots-Tag:noindex
X-PUBLISHED-TTL:PT1H
BEGIN:VTIMEZONE
TZID:Europe/Madrid
BEGIN:DAYLIGHT
TZOFFSETFROM:+0100
TZOFFSETTO:+0200
TZNAME:CEST
DTSTART:20250330T010000
END:DAYLIGHT
BEGIN:STANDARD
TZOFFSETFROM:+0200
TZOFFSETTO:+0100
TZNAME:CET
DTSTART:20251026T010000
END:STANDARD
BEGIN:DAYLIGHT
TZOFFSETFROM:+0100
TZOFFSETTO:+0200
TZNAME:CEST
DTSTART:20260329T010000
END:DAYLIGHT
BEGIN:STANDARD
TZOFFSETFROM:+0200
TZOFFSETTO:+0100
TZNAME:CET
DTSTART:20261025T010000
END:STANDARD
BEGIN:DAYLIGHT
TZOFFSETFROM:+0100
TZOFFSETTO:+0200
TZNAME:CEST
DTSTART:20270328T010000
END:DAYLIGHT
BEGIN:STANDARD
TZOFFSETFROM:+0200
TZOFFSETTO:+0100
TZNAME:CET
DTSTART:20271031T010000
END:STANDARD
END:VTIMEZONE
BEGIN:VEVENT
DTSTART;TZID=Europe/Madrid:20260326T090000
DTEND;TZID=Europe/Madrid:20260326T140000
DTSTAMP:20260425T151455
CREATED:20260223T125251Z
LAST-MODIFIED:20260324T092627Z
UID:37946-1774515600-1774533600@www.kids-cluster.com
SUMMARY:Assemblea General KID'S CLUSTER 2026
DESCRIPTION:Un any més\, arriba una de les cites clau de KID’S CLUSTER: l’Assemblea General 2026. Serà el gran punt de trobada anual dels nostres socis: un espai per compartir resultats\, validar les línies estratègiques de futur i connectar amb els principals reptes i oportunitats del sector infantil i familiar. \nLa jornada tindrà lloc el pròxim dijous 26 de març de 9:00 a 14:00h a la sala d’actes de la Fabra i Coats: Fàbrica de Creació. \n\n\n\n\n\nUna trobada estratègica per compartir balanç\, marcar prioritats i reflexionar conjuntament sobre els reptes i oportunitats del sector infantil i familiar. Durant la sessió presentarem els projectes en marxa i les noves iniciatives previstes per al 2026\, amb una mirada posada en la innovació\, la internacionalització i l’impacte sectorial. També serà una oportunitat per generar networking\, reforçar aliances i sumar visions per continuar fent créixer el clúster. \nSi ets una empresa orientada al públic infantil i familiar. Vols saber en quin punt es troba el teu sector i les futures línies de negoci i oportunitats que vindran\, també estàs convidada a assistir a la sessió Transformacions que ja estan canviant les famílies\, a partir de les 11.30h.\nPrograma de l’esdeveniment\n09:00 –9:30 hores | Registre i esmorzar de benvinguda \n09:30 – 09:45 hores | Benvinguda per part d’Imma Marín\, presidenta de KID’S CLUSTER \n09:45 – 11:30 hores | Assemblea General Ordinària\nBalanç d’activitat\, estat de l’entitat\, línies estratègiques 2026 i espai de participació. \n11:30 a 11:45 hores | Pausa per cafè \n11:45 – 13:20 | Observatori de famílies: Transformacions que ja estan canviant el sector\nUna taula rodona i espai de reflexió individual i col·lectiva\, amb exemples reals\, basat en les dades de l’Observatori de Famílies\, per explorar quatre transformacions que ja estan redefinint el sector infantil i familiar. Una oportunitat per analitzar com aquests canvis impacten els nostres models de negoci i identificar oportunitats i prioritats estratègiques per al futur del sector. \n13:20 – 13:30 hores | Cloenda i entrega de Premis KID’S CLUSTER 2026 \n13:30 – 14:00 hores | Aperitiu networking \nQuè t’espera?\n📊Coneixeràs el sector orientat al segment infantil i familiar a Catalunya.\n🧸Exploraràs l’àmbit de productes i serveis per al segment infantil i familiar.\n💥Descobriràs els canvis i tendències al negoci.\n✅Identificaràs els reptes i recomanacions d’àrees de treball. \n\n\nInformació pràctica\n\n\n📅 Dijous 26 de març\n🕘 De 9:00 h a 14:00 h\n📍 Sala d’actes de la Fabra i Coats: Fàbrica de Creació (carrer Sant Adrià\, 20\, Barcelona) \nInscriu-t’hi ja! Properament\, compartirem més detalls sobre el programa o l’espai.
URL:https://www.kids-cluster.com/en/activitats/assemblea-general-kids-cluster-2026/
CATEGORIES:Presencial
ATTACH;FMTTYPE=image/png:https://www.kids-cluster.com/wp-content/uploads/2026/02/KC2026_Banners-ACTIVITATS-NEWS-2026-1.png
END:VEVENT
BEGIN:VEVENT
DTSTART;TZID=Europe/Madrid:20260408T103000
DTEND;TZID=Europe/Madrid:20260408T120000
DTSTAMP:20260425T151455
CREATED:20260327T130022Z
LAST-MODIFIED:20260330T074359Z
UID:38310-1775644200-1775649600@www.kids-cluster.com
SUMMARY:Grup de Treball d'Internacionalització
DESCRIPTION:Nova sessió del Grup de Treball d’Internacionalització. Aquest Grup de Treball busca connectar internacionalment el sector infantil i familiar\, fer seguiment dels esdeveniments\, fires i congressos internacionals d’interès per a qualsevol àmbit del sector infantil\, i fer propostes de missions agrupades\, assistència a fires\, i sessions amb experts en internacionalització i accés a nous mercats. \n  \nQuè treballarem a la sessió?\nBenvinguda i posada en context\nObrirem la sessió explicant el rol del Grup de Treball d’Internacionalització i per què és clau dins l’estratègia del KID’S CLUSTER el 2026. \nOn és el KID’S CLUSTER el 2026?\nCompartirem les línies i projectes del clúster vinculats a la internacionalització: identificació de mercats prioritaris\, participació en fires internacionals i organització de missions. \nPropostes per la Missió Europea al Setembre 2026\nDebatrem sobre la propera missió europea prevista per al setembre de 2026\, incorporant les propostes dels socis interessats. L’equip de KID’S CLUSTER presentarà les primeres línies de treball i començarem a definir conjuntament la missió d’acord amb les necessitats dels participants. \nParticipació en fires i esdeveniments sectorials\nPresentarem oportunitats com la participació a la fira Kid’s Time (Polònia\, febrer 2027)\, un dels principals punts de trobada internacionals del sector infantil i familiar a Europa Central i de l’Est. \nProperes passes\nPrioritzarem mercats\, accions i línies de treball per continuar activant la internacionalització dels socis durant el 2026. \nTorn obert i tancament\nEspai final per compartir idees\, inquietuds i interès en participar en missions\, projectes i iniciatives internacionals. \n  \nQuè és el Grup de Treball d’Internacionalització?\nSer membre del Grup de Treball d’Internacionalització implica connectar amb altres empreses i agents per explorar conjuntament nous mercats\, generar aliances estratègiques i impulsar projectes amb dimensió internacional. \nAquest grup és l’espai des d’on els socis del KID’S CLUSTER poden identificar oportunitats globals\, participar en missions internacionals\, accedir a ecosistemes clau i captar finançament europeu\, aprofitant la força col·lectiva del clúster. \nA diferència d’altres iniciatives centrades únicament en l’exportació\, el valor afegit d’aquest Grup de Treball és facilitar una internacionalització col·laborativa\, connectada amb tendències globals i orientada a generar impacte real en el creixement de les empreses. \n⚠️ Sessió exclusiva per a socis del KID’S CLUSTER.
URL:https://www.kids-cluster.com/en/activitats/grup-de-treball-dinternacionalitzacio/
CATEGORIES:Virtual
ATTACH;FMTTYPE=image/jpeg:https://www.kids-cluster.com/wp-content/uploads/2026/03/20250313_gt-alimentacio-1.jpg
ORGANIZER;CN="Kid's Cluster":MAILTO:info@kids-cluster.com
END:VEVENT
BEGIN:VEVENT
DTSTART;TZID=Europe/Madrid:20260429T100000
DTEND;TZID=Europe/Madrid:20260429T133000
DTSTAMP:20260425T151455
CREATED:20260410T123440Z
LAST-MODIFIED:20260423T120647Z
UID:38437-1777456800-1777469400@www.kids-cluster.com
SUMMARY:Sessió d’innovació en el sector infantil i familiar
DESCRIPTION:Descarrega aquí el programa de la jornada\nLa innovació és clau per impulsar el creixement del sector infantil i familiar\, i el suport del finançament públic pot convertir-se en una palanca per fer realitat iniciatives amb impacte. En aquesta sessió\, veurem com empreses i entitats poden accedir a aquestes oportunitats\, compartirem experiències inspiradores i fomentarem connexions per activar nous projectes. \nQuè hi trobaràs: \n\nConeixeràs les properes convocatòries de finançament públic  i entendràs com funcionen per aprofitar-les en projectes d’innovació dins del sector.\nDescobriràs les línies de recerca de les universitats i centres de recerca (UAB\, UB\, UOC\, EURECAT)\, i podràs connectar-hi per generar noves col·laboracions.\nExploraràs exemples reals de projectes innovadors liderats per membres del KID’S CLUSTER.\nGeneraràs aliances estratègiques per desenvolupar noves iniciatives i reforçar la innovació en el sector Kids & Family\n\nVols saber com pots aprofitar aquestes oportunitats? \nConeix de primera mà com les empreses estan accedint a aquests fons\, quines convocatòries hi ha i com els centres de recerca poden ajudar-te a impulsar els teus projectes!\n \nPrograma de la sessió: \n\n10:00 – 10:10 | Benvinguda a càrrec d’Anna Lòpez\, cluster manager de KID’S CLUSTER\n10:10 – 10:45 | Oportunitats de finançament públic per al sector Kids & Family amb David Rovirosa\, Líder d’Equip d’Innovació Disruptiva d’ACCIÓ.\n10:45 – 11:30 | Transferència de coneixement: presentació de línies de recerca aplicades al sector per part d’universitats i centres (UAB\, UB\, UOC\, EURECAT).\n11:30 – 11:45 | Pausa\n11:45 – 13:00 | Elevator Pitch de projectes d’innovació: empreses i entitats del clúster presenten els seus projectes i obren oportunitats de col·laboració.\n13:00 – 13:30 | Networking\n\n  \n🔍 Open Call per a projectes innovadors en el sector infantil i familiar\nSi la teva empresa o entitat està desenvolupant un projecte innovador (educació\, salut\, alimentació\, cultura o oci)\, aquest és el moment de donar-lo a conèixer! \nPer què sumar-t’hi? \n\nAugmentar la visibilitat del teu projecte davant d’empreses\, institucions i possibles partners.\nPosicionar-te com a agent innovador dins del sector Kids & Family.\nDetectar sinergies i noves oportunitats de col·laboració.\nCompartir aprenentatges i experiències amb altres organitzacions.\n\n👉 Envia’ns la teva proposta a info@kids-cluster.com\nExplica’ns breument el teu projecte i què el fa innovador. Un cop revisades totes les candidatures\, seleccionarem les més destacades. \n  \n⚠️ Open call exclusiva per a socis. Si no ho ets\, però t’interessa participar\, posa’t en contacte amb nosaltres! \n📅 Dimecres 29 d’abril\n🕙 De 10:00 a 13:30\n📍 Espai ITNIG
URL:https://www.kids-cluster.com/en/activitats/sessio-dinnovacio/
LOCATION:ESPAI ITNIG\, Carrer de Pujades\, 69\, Sant Martí\, Barcelona\, 08005\, Spain
CATEGORIES:Presencial
ATTACH;FMTTYPE=image/png:https://www.kids-cluster.com/wp-content/uploads/2026/04/20260429_Sessio-dinnovacio-en-el-sector-infantil-i-familiar.png
ORGANIZER;CN="Kid's Cluster":MAILTO:info@kids-cluster.com
END:VEVENT
END:VCALENDAR