BEGIN:VCALENDAR
VERSION:2.0
PRODID:-//KIDS CLUSTER - ECPv6.15.20//NONSGML v1.0//EN
CALSCALE:GREGORIAN
METHOD:PUBLISH
X-ORIGINAL-URL:https://www.kids-cluster.com/en/
X-WR-CALDESC:Events for KIDS CLUSTER
REFRESH-INTERVAL;VALUE=DURATION:PT1H
X-Robots-Tag:noindex
X-PUBLISHED-TTL:PT1H
BEGIN:VTIMEZONE
TZID:Europe/Madrid
BEGIN:DAYLIGHT
TZOFFSETFROM:+0100
TZOFFSETTO:+0200
TZNAME:CEST
DTSTART:20240331T010000
END:DAYLIGHT
BEGIN:STANDARD
TZOFFSETFROM:+0200
TZOFFSETTO:+0100
TZNAME:CET
DTSTART:20241027T010000
END:STANDARD
BEGIN:DAYLIGHT
TZOFFSETFROM:+0100
TZOFFSETTO:+0200
TZNAME:CEST
DTSTART:20250330T010000
END:DAYLIGHT
BEGIN:STANDARD
TZOFFSETFROM:+0200
TZOFFSETTO:+0100
TZNAME:CET
DTSTART:20251026T010000
END:STANDARD
BEGIN:DAYLIGHT
TZOFFSETFROM:+0100
TZOFFSETTO:+0200
TZNAME:CEST
DTSTART:20260329T010000
END:DAYLIGHT
BEGIN:STANDARD
TZOFFSETFROM:+0200
TZOFFSETTO:+0100
TZNAME:CET
DTSTART:20261025T010000
END:STANDARD
END:VTIMEZONE
BEGIN:VEVENT
DTSTART;TZID=Europe/Madrid:20251007T100000
DTEND;TZID=Europe/Madrid:20251007T110000
DTSTAMP:20260425T130956
CREATED:20250926T081227Z
LAST-MODIFIED:20251006T111747Z
UID:36625-1759831200-1759834800@www.kids-cluster.com
SUMMARY:2a sessió Observatori de famílies
DESCRIPTION:KID’S CLUSTER impulsa el primer Observatori de famílies amb l’objectiu d’oferir dades actualitzades\, detectar tendències\, identificar necessitats emergents i generar coneixement sobre el sector infantil i familiar. L’estudi analitzarà els canvis socials\, culturals\, tecnològics i econòmics que afecten les famílies a Catalunya i a Espanya\, i com aquests impacten en el consum\, l’educació\, el lleure\, la salut i els estils de vida. \nEn aquesta ocasió\, la sessió tindrà com a objectiu compartir l’evolució de l’estudi i aprofundir en les següents fases del projecte que desenvolupem conjuntament amb ATREVIA. \n📌 Què treballarem en aquesta segona trobada?\nBreu presentació de les fases 1 i 2:Farem un repàs dels resultats i principals aprenentatges de l’anàlisi de tendències (fase 1) i de la investigació qualitativa (fase 2). \nExplicació detallada de la fase 3:Presentarem com es durà a terme l’enquesta quantitativa a més de 1.100 famílies amb infants a tot l’Estat.Compartirem la metodologia\, la mostra prevista\, el tipus de preguntes que abordarem i com aquests resultats ens ajudaran a identificar narratives socials i a detectar canvis en la percepció del sector. \nEspai de participació:Els socis i col·laboradors podran aportar preguntes específiques que considerin rellevants per incloure al qüestionari\, garantint així que l’estudi respongui als interessos reals de les organitzacions. \n\nObjectius de la trobada\n\nPresentar els avenços de les primeres fases de l’Observatori.\nDonar a conèixer com s’estructura la fase quantitativa i els seus objectius.\nRecollir preguntes clau dels socis per enriquir el qüestionari i assegurar la màxima rellevància de les dades obtingudes.\n\n\n➕Per a conèixer tots els detalls del projecte\, descarrega el 📄 Dossier informatiu de l’Observatori i descobreix com aquesta iniciativa pot aportar valor a la teva organització.\nConèix els principals resultats de l’Observatori de famílies al KID’S INNOVATION FEST. A més\, amb la teva entrada pots escollir els packs especials d’entrada completa + estudi! Reserva la teva plaça al KID’S INNOVATION FEST i aconsegueix els resultats de l’estudi aquí.
URL:https://www.kids-cluster.com/en/activitats/2a-sessio-observatori-de-families/
CATEGORIES:Virtual
ATTACH;FMTTYPE=image/png:https://www.kids-cluster.com/wp-content/uploads/2025/09/20251007_2a-sessio-observatori-families.png
END:VEVENT
END:VCALENDAR