BEGIN:VCALENDAR
VERSION:2.0
PRODID:-//KIDS CLUSTER - ECPv6.15.20//NONSGML v1.0//EN
CALSCALE:GREGORIAN
METHOD:PUBLISH
X-ORIGINAL-URL:https://www.kids-cluster.com/en/
X-WR-CALDESC:Events for KIDS CLUSTER
REFRESH-INTERVAL;VALUE=DURATION:PT1H
X-Robots-Tag:noindex
X-PUBLISHED-TTL:PT1H
BEGIN:VTIMEZONE
TZID:Europe/Madrid
BEGIN:DAYLIGHT
TZOFFSETFROM:+0100
TZOFFSETTO:+0200
TZNAME:CEST
DTSTART:20240331T010000
END:DAYLIGHT
BEGIN:STANDARD
TZOFFSETFROM:+0200
TZOFFSETTO:+0100
TZNAME:CET
DTSTART:20241027T010000
END:STANDARD
BEGIN:DAYLIGHT
TZOFFSETFROM:+0100
TZOFFSETTO:+0200
TZNAME:CEST
DTSTART:20250330T010000
END:DAYLIGHT
BEGIN:STANDARD
TZOFFSETFROM:+0200
TZOFFSETTO:+0100
TZNAME:CET
DTSTART:20251026T010000
END:STANDARD
BEGIN:DAYLIGHT
TZOFFSETFROM:+0100
TZOFFSETTO:+0200
TZNAME:CEST
DTSTART:20260329T010000
END:DAYLIGHT
BEGIN:STANDARD
TZOFFSETFROM:+0200
TZOFFSETTO:+0100
TZNAME:CET
DTSTART:20261025T010000
END:STANDARD
END:VTIMEZONE
BEGIN:VEVENT
DTSTART;TZID=Europe/Madrid:20250306T100000
DTEND;TZID=Europe/Madrid:20250306T110000
DTSTAMP:20260426T005000
CREATED:20250115T094103Z
LAST-MODIFIED:20250115T143801Z
UID:34818-1741255200-1741258800@www.kids-cluster.com
SUMMARY:Grup de Treball d'internacionalització
DESCRIPTION:Aquest Grup de Treball busca connectar internacionalment el sector infantil i familiar\, fer seguiment dels esdeveniments\, fires i congressos internacionals d’interès per a qualsevol àmbit del sector infantil\, i fer propostes de missions agrupades\, assistència a fires\, i sessions amb experts en internacionalització i accés a nous mercats.\nAquest any el grup de treball de tendències té com a objectius:\n\nDetectar fires internacionals d’interès\nExplorar altres mercats internacionals\nOrganitzar missions agrupades a països estratègics\nEstablir aliançes amb partners internacionals\nFacilitar la trobada i l’intercanvi d’idees entre les organitzacions del sector infantil i familiar.\nCocreació de propostes per a l’elaboració de projectes comuns a nivell regional\, nacional i europeu.\n\nA qui va dirigit?\nA totes aquelles empreses sòcies de KID’S CLUSTER que vulguin internacionalitzar-se\, explorar nous mercats i establir aliances amb partners internacionals\n\n\nDetalls de la sessió properament ⚠️Sessió exclusiva per a socis
URL:https://www.kids-cluster.com/en/activitats/gt-internacionalitzacio-2025-1/
CATEGORIES:Virtual
ATTACH;FMTTYPE=image/png:https://www.kids-cluster.com/wp-content/uploads/2025/01/20250306_gt-internacional.png
END:VEVENT
END:VCALENDAR