BEGIN:VCALENDAR
VERSION:2.0
PRODID:-//KIDS CLUSTER - ECPv6.15.20//NONSGML v1.0//EN
CALSCALE:GREGORIAN
METHOD:PUBLISH
X-WR-CALNAME:KIDS CLUSTER
X-ORIGINAL-URL:https://www.kids-cluster.com/en/
X-WR-CALDESC:Events for KIDS CLUSTER
REFRESH-INTERVAL;VALUE=DURATION:PT1H
X-Robots-Tag:noindex
X-PUBLISHED-TTL:PT1H
BEGIN:VTIMEZONE
TZID:Europe/Madrid
BEGIN:DAYLIGHT
TZOFFSETFROM:+0100
TZOFFSETTO:+0200
TZNAME:CEST
DTSTART:20250330T010000
END:DAYLIGHT
BEGIN:STANDARD
TZOFFSETFROM:+0200
TZOFFSETTO:+0100
TZNAME:CET
DTSTART:20251026T010000
END:STANDARD
BEGIN:DAYLIGHT
TZOFFSETFROM:+0100
TZOFFSETTO:+0200
TZNAME:CEST
DTSTART:20260329T010000
END:DAYLIGHT
BEGIN:STANDARD
TZOFFSETFROM:+0200
TZOFFSETTO:+0100
TZNAME:CET
DTSTART:20261025T010000
END:STANDARD
BEGIN:DAYLIGHT
TZOFFSETFROM:+0100
TZOFFSETTO:+0200
TZNAME:CEST
DTSTART:20270328T010000
END:DAYLIGHT
BEGIN:STANDARD
TZOFFSETFROM:+0200
TZOFFSETTO:+0100
TZNAME:CET
DTSTART:20271031T010000
END:STANDARD
END:VTIMEZONE
BEGIN:VEVENT
DTSTART;TZID=Europe/Madrid:20260408T103000
DTEND;TZID=Europe/Madrid:20260408T120000
DTSTAMP:20260425T015110
CREATED:20260327T130022Z
LAST-MODIFIED:20260330T074359Z
UID:38310-1775644200-1775649600@www.kids-cluster.com
SUMMARY:Grup de Treball d'Internacionalització
DESCRIPTION:Nova sessió del Grup de Treball d’Internacionalització. Aquest Grup de Treball busca connectar internacionalment el sector infantil i familiar\, fer seguiment dels esdeveniments\, fires i congressos internacionals d’interès per a qualsevol àmbit del sector infantil\, i fer propostes de missions agrupades\, assistència a fires\, i sessions amb experts en internacionalització i accés a nous mercats. \n  \nQuè treballarem a la sessió?\nBenvinguda i posada en context\nObrirem la sessió explicant el rol del Grup de Treball d’Internacionalització i per què és clau dins l’estratègia del KID’S CLUSTER el 2026. \nOn és el KID’S CLUSTER el 2026?\nCompartirem les línies i projectes del clúster vinculats a la internacionalització: identificació de mercats prioritaris\, participació en fires internacionals i organització de missions. \nPropostes per la Missió Europea al Setembre 2026\nDebatrem sobre la propera missió europea prevista per al setembre de 2026\, incorporant les propostes dels socis interessats. L’equip de KID’S CLUSTER presentarà les primeres línies de treball i començarem a definir conjuntament la missió d’acord amb les necessitats dels participants. \nParticipació en fires i esdeveniments sectorials\nPresentarem oportunitats com la participació a la fira Kid’s Time (Polònia\, febrer 2027)\, un dels principals punts de trobada internacionals del sector infantil i familiar a Europa Central i de l’Est. \nProperes passes\nPrioritzarem mercats\, accions i línies de treball per continuar activant la internacionalització dels socis durant el 2026. \nTorn obert i tancament\nEspai final per compartir idees\, inquietuds i interès en participar en missions\, projectes i iniciatives internacionals. \n  \nQuè és el Grup de Treball d’Internacionalització?\nSer membre del Grup de Treball d’Internacionalització implica connectar amb altres empreses i agents per explorar conjuntament nous mercats\, generar aliances estratègiques i impulsar projectes amb dimensió internacional. \nAquest grup és l’espai des d’on els socis del KID’S CLUSTER poden identificar oportunitats globals\, participar en missions internacionals\, accedir a ecosistemes clau i captar finançament europeu\, aprofitant la força col·lectiva del clúster. \nA diferència d’altres iniciatives centrades únicament en l’exportació\, el valor afegit d’aquest Grup de Treball és facilitar una internacionalització col·laborativa\, connectada amb tendències globals i orientada a generar impacte real en el creixement de les empreses. \n⚠️ Sessió exclusiva per a socis del KID’S CLUSTER.
URL:https://www.kids-cluster.com/en/activitats/grup-de-treball-dinternacionalitzacio/
CATEGORIES:Virtual
ATTACH;FMTTYPE=image/jpeg:https://www.kids-cluster.com/wp-content/uploads/2026/03/20250313_gt-alimentacio-1.jpg
ORGANIZER;CN="Kid's Cluster":MAILTO:info@kids-cluster.com
END:VEVENT
END:VCALENDAR