BEGIN:VCALENDAR
VERSION:2.0
PRODID:-//KIDS CLUSTER - ECPv6.15.20//NONSGML v1.0//EN
CALSCALE:GREGORIAN
METHOD:PUBLISH
X-ORIGINAL-URL:https://www.kids-cluster.com/en/
X-WR-CALDESC:Events for KIDS CLUSTER
REFRESH-INTERVAL;VALUE=DURATION:PT1H
X-Robots-Tag:noindex
X-PUBLISHED-TTL:PT1H
BEGIN:VTIMEZONE
TZID:Europe/Madrid
BEGIN:DAYLIGHT
TZOFFSETFROM:+0100
TZOFFSETTO:+0200
TZNAME:CEST
DTSTART:20250330T010000
END:DAYLIGHT
BEGIN:STANDARD
TZOFFSETFROM:+0200
TZOFFSETTO:+0100
TZNAME:CET
DTSTART:20251026T010000
END:STANDARD
BEGIN:DAYLIGHT
TZOFFSETFROM:+0100
TZOFFSETTO:+0200
TZNAME:CEST
DTSTART:20260329T010000
END:DAYLIGHT
BEGIN:STANDARD
TZOFFSETFROM:+0200
TZOFFSETTO:+0100
TZNAME:CET
DTSTART:20261025T010000
END:STANDARD
BEGIN:DAYLIGHT
TZOFFSETFROM:+0100
TZOFFSETTO:+0200
TZNAME:CEST
DTSTART:20270328T010000
END:DAYLIGHT
BEGIN:STANDARD
TZOFFSETFROM:+0200
TZOFFSETTO:+0100
TZNAME:CET
DTSTART:20271031T010000
END:STANDARD
END:VTIMEZONE
BEGIN:VEVENT
DTSTART;TZID=Europe/Madrid:20260129T100000
DTEND;TZID=Europe/Madrid:20260129T110000
DTSTAMP:20260425T043325
CREATED:20260113T085707Z
LAST-MODIFIED:20260116T130229Z
UID:37342-1769680800-1769684400@www.kids-cluster.com
SUMMARY:Antena Kid's: Tendències 2026
DESCRIPTION:Descobreix les principals tendències del moment en format express.\nNo et perdis la primera sessió de l’any d’ANTENA KID’S\, el cicle de trobades online sobre tendències i novetats del sector infantil i familiar\, amb The Onion Inside\, la consultora de research generacional associada a KID’S CLUSTER i especialitzada en l’anàlisi de generacions emergents. \n Temes de la sessió:\n⏪✨ Let’s make 2026 the new 2016 \n🧠🤖 Tota joguina ha de ser intel·ligent? \n💖🌈 Diversitat i inclusió: el cas de Barbie \n🚨🔐 Control parental: què canvia en els continguts? \n👾🧬 Com es relacionen els baby zeta \n T’interessa si…\n\nEts una organització associada a KID’S CLUSTER.\nVols estar al dia de les tendències més recents del sector infantil i familiar.\nT’interessen les novetats\, tant a nivell nacional com internacional.\nVols compartir i debatre com aquestes tendències impacten en el teu àmbit d’especialització.
URL:https://www.kids-cluster.com/en/activitats/antena-kids-tendencies-2026/
CATEGORIES:Virtual
ATTACH;FMTTYPE=image/jpeg:https://www.kids-cluster.com/wp-content/uploads/2026/01/20260129_ANTENA-KIDS-TENDENCIES-2026.jpg
ORGANIZER;CN="Kid's Cluster":MAILTO:info@kids-cluster.com
END:VEVENT
END:VCALENDAR