BEGIN:VCALENDAR
VERSION:2.0
PRODID:-//KIDS CLUSTER - ECPv6.15.20//NONSGML v1.0//EN
CALSCALE:GREGORIAN
METHOD:PUBLISH
X-ORIGINAL-URL:https://www.kids-cluster.com/en/
X-WR-CALDESC:Events for KIDS CLUSTER
REFRESH-INTERVAL;VALUE=DURATION:PT1H
X-Robots-Tag:noindex
X-PUBLISHED-TTL:PT1H
BEGIN:VTIMEZONE
TZID:Europe/Madrid
BEGIN:DAYLIGHT
TZOFFSETFROM:+0100
TZOFFSETTO:+0200
TZNAME:CEST
DTSTART:20230326T010000
END:DAYLIGHT
BEGIN:STANDARD
TZOFFSETFROM:+0200
TZOFFSETTO:+0100
TZNAME:CET
DTSTART:20231029T010000
END:STANDARD
BEGIN:DAYLIGHT
TZOFFSETFROM:+0100
TZOFFSETTO:+0200
TZNAME:CEST
DTSTART:20240331T010000
END:DAYLIGHT
BEGIN:STANDARD
TZOFFSETFROM:+0200
TZOFFSETTO:+0100
TZNAME:CET
DTSTART:20241027T010000
END:STANDARD
BEGIN:DAYLIGHT
TZOFFSETFROM:+0100
TZOFFSETTO:+0200
TZNAME:CEST
DTSTART:20250330T010000
END:DAYLIGHT
BEGIN:STANDARD
TZOFFSETFROM:+0200
TZOFFSETTO:+0100
TZNAME:CET
DTSTART:20251026T010000
END:STANDARD
END:VTIMEZONE
BEGIN:VEVENT
DTSTART;VALUE=DATE:20241119
DTEND;VALUE=DATE:20241122
DTSTAMP:20260426T045214
CREATED:20241018T083608Z
LAST-MODIFIED:20241018T083905Z
UID:33851-1731974400-1732233599@www.kids-cluster.com
SUMMARY:Visita la fira SIMO EDUCACIÓN 2024
DESCRIPTION:Aquest any\, KID’S CLUSTER 🚀 estarà present al Saló Internacional de Tecnologia i Innovació Educativa\, organitzat per IFEMA en col·laboració amb EDUCACIÓN 3.0\, en la seva edició #SIMOEDU24.  \nEl nostre objectiu és seguir coneixent les novetats més punteres de l’ecosistema educatiu 🧑‍🏫 i continuar enfortint sinergies 🔗. Aquest any us hem preparat una visita per la fira el dia 20 de novembre. Tots els socis que vulgueu acompanyar-nos podeu inscriure-us i unir-vos a aquesta experiència per descobrir les últimes innovacions educatives.  \nEns veiem a SIMO EDU 2024!
URL:https://www.kids-cluster.com/en/activitats/simo-educacion-2024/
LOCATION:Recinto Ferial IFEMA Madrid\, Av. Partenón 5\, Madrid\, 28042\, Espanya
CATEGORIES:Virtual
ATTACH;FMTTYPE=image/png:https://www.kids-cluster.com/wp-content/uploads/2024/10/2024-simo-educacion.png
END:VEVENT
END:VCALENDAR