BEGIN:VCALENDAR
VERSION:2.0
PRODID:-//KIDS CLUSTER - ECPv6.15.20//NONSGML v1.0//EN
CALSCALE:GREGORIAN
METHOD:PUBLISH
X-WR-CALNAME:KIDS CLUSTER
X-ORIGINAL-URL:https://www.kids-cluster.com
X-WR-CALDESC:Esdeveniments per KIDS CLUSTER
REFRESH-INTERVAL;VALUE=DURATION:PT1H
X-Robots-Tag:noindex
X-PUBLISHED-TTL:PT1H
BEGIN:VTIMEZONE
TZID:Europe/Madrid
BEGIN:DAYLIGHT
TZOFFSETFROM:+0100
TZOFFSETTO:+0200
TZNAME:CEST
DTSTART:20250330T010000
END:DAYLIGHT
BEGIN:STANDARD
TZOFFSETFROM:+0200
TZOFFSETTO:+0100
TZNAME:CET
DTSTART:20251026T010000
END:STANDARD
BEGIN:DAYLIGHT
TZOFFSETFROM:+0100
TZOFFSETTO:+0200
TZNAME:CEST
DTSTART:20260329T010000
END:DAYLIGHT
BEGIN:STANDARD
TZOFFSETFROM:+0200
TZOFFSETTO:+0100
TZNAME:CET
DTSTART:20261025T010000
END:STANDARD
BEGIN:DAYLIGHT
TZOFFSETFROM:+0100
TZOFFSETTO:+0200
TZNAME:CEST
DTSTART:20270328T010000
END:DAYLIGHT
BEGIN:STANDARD
TZOFFSETFROM:+0200
TZOFFSETTO:+0100
TZNAME:CET
DTSTART:20271031T010000
END:STANDARD
END:VTIMEZONE
BEGIN:VEVENT
DTSTART;TZID=Europe/Madrid:20260217T103000
DTEND;TZID=Europe/Madrid:20260217T120000
DTSTAMP:20260425T013548
CREATED:20260130T123116Z
LAST-MODIFIED:20260202T074512Z
UID:37552-1771324200-1771329600@www.kids-cluster.com
SUMMARY:Grup de Treball d'Indústries Culturals i Creatives
DESCRIPTION:Nova sessió del Grup de Treball d’Indústries Culturals i Creatives. Aquesta sessió combina el treball estratègic del Grup d’Indústries Culturals i Creatives amb un espai de cocreació per compartir reptes\, generar connexions i activar projectes col·laboratius que reforcin el paper de la cultura\, el joc i la creativitat en l’ecosistema infantil i familiar. \nQuè treballarem a la sessió?\nBenvinguda i posada en contextObrim la sessió explicant per què aquest Grup de Treball és clau el 2026 i què ens agradaria construir plegats. \nOn és el KID’S CLUSTER el 2026?Compartirem les línies i projectes del KID’S CLUSTER que connecten directament amb les Indústries Culturals i Creatives\, amb especial atenció al Festival DAU com a espai d’oportunitats. \nParlem de reptes (i d’oportunitats)Dinàmica participativa per posar sobre la taula els reptes reals del sector i detectar punts en comú. \nI si ho convertim en projectes?Posada en comú d’idees i primeres propostes de projectes col·laboratius que podríem impulsar des del Grup de Treball. \nProperes passesPrioritzarem línies de treball i definirem com continuar activant el grup durant el 2026. \nTorn obert i tancamentEspai final per compartir idees\, inquietuds o ganes de sumar-s’hi. \n\nQuè és el Grup de Treball d’Índústries Culturals i Creatives?\nSer membre del Grup de Treball d’Indústries Culturals i Creatives implica connectar amb altres agents del sector i detectar oportunitats de col·laboració en l’àmbit dels continguts\, els formats i les experiències culturals per a infants i famílies. \nAquest grup és l’espai des d’on els socis del KID’S CLUSTER poden impulsar i liderar projectes vinculats al joc\, l’audiovisual\, les narratives creatives i els formats culturals que el clúster desenvoluparà al llarg de l’any. \n⚠️Sessió exclusiva per a socis
URL:https://www.kids-cluster.com/activitats/grup-de-treball-dindustries-culturals-i-creatives/
CATEGORIES:Virtual
ATTACH;FMTTYPE=image/png:https://www.kids-cluster.com/wp-content/uploads/2026/01/20250204-1.png
ORGANIZER;CN="Kid's Cluster":MAILTO:info@kids-cluster.com
END:VEVENT
BEGIN:VEVENT
DTSTART;TZID=Europe/Madrid:20260224T103000
DTEND;TZID=Europe/Madrid:20260224T120000
DTSTAMP:20260425T013548
CREATED:20260130T125237Z
LAST-MODIFIED:20260417T115104Z
UID:37578-1771929000-1771934400@www.kids-cluster.com
SUMMARY:Grup de Treball d'Hàbits saludables i alimentació
DESCRIPTION:Nova sessió del Grup de Treball d’Hàbits saludables i alimentació. Aquesta sessió combina el treball estratègic del grup amb un espai de cocreació per compartir reptes\, generar connexions i activar projectes col·laboratius vinculats a la salut\, el benestar i l’alimentació infantil. \nLa trobada vol posar en valor una mirada diferencial: entendre els hàbits alimentaris dels infants i joves no només des del producte\, sinó des del seu context educatiu\, social i de lleure\, aprofitant el coneixement transversal del KID’S CLUSTER sobre les noves generacions. \nQuè treballarem a la sessió?\nBenvinguda i posada en contextObrirem la sessió explicant el rol del Grup de Treball d’Hàbits saludables i alimentació i per què és clau dins l’estratègia del KID’S CLUSTER el 2026. \nOn és el KID’S CLUSTER el 2026?Compartirem les línies i projectes del clúster relacionats amb salut\, benestar\, alimentació i hàbits de vida saludables\, i com aquests es connecten amb educació\, lleure i consum infantil. \nParlem de reptes (i d’oportunitats)Dinàmica participativa per identificar els principals reptes que afronten les empreses que treballen amb alimentació infantil i hàbits saludables\, posant especial focus en els patrons de consum de les noves generacions. \nI si ho convertim en projectes?Posada en comú d’idees i primeres propostes de projectes col·laboratius\, que vagin més enllà de la innovació purament alimentària i integrin educació\, comunicació\, experiències i impacte social. \nProperes passesPrioritzarem línies de treball i definirem com continuar activant el grup durant el 2026. \nTorn obert i tancamentEspai final per compartir idees\, inquietuds o ganes de sumar-s’hi. \n\nQuè és el Grup de Treball d’Hàbits saludables i alimentació?\nSer membre del Grup de Treball d’Hàbits saludables i alimentació implica connectar amb altres empreses i agents que treballen amb infants i famílies per abordar la salut i l’alimentació des d’una mirada integral. \nAquest grup és l’espai des d’on els socis del KID’S CLUSTER poden impulsar i liderar projectes que relacionin alimentació\, educació\, lleure i patrons de consum\, aprofitant el coneixement directe del clúster sobre com viuen\, aprenen i es relacionen els infants i joves d’avui. \nA diferència d’altres espais centrats exclusivament en la innovació alimentària\, el valor afegit d’aquest Grup de Treball és connectar el producte amb el context real dels infants\, treballant colze a colze amb empreses que operen directament en educació\, lleure\, cultura i experiències infantils. \n⚠️Sessió exclusiva per a socis.
URL:https://www.kids-cluster.com/activitats/grup-de-treball-dhabits-saludables-i-alimentacio/
CATEGORIES:Virtual
ATTACH;FMTTYPE=image/png:https://www.kids-cluster.com/wp-content/uploads/2026/01/20250313_gt-alimentacio-2.png
ORGANIZER;CN="Kid's Cluster":MAILTO:info@kids-cluster.com
END:VEVENT
END:VCALENDAR