BEGIN:VCALENDAR
VERSION:2.0
PRODID:-//KIDS CLUSTER - ECPv6.15.20//NONSGML v1.0//EN
CALSCALE:GREGORIAN
METHOD:PUBLISH
X-ORIGINAL-URL:https://www.kids-cluster.com
X-WR-CALDESC:Esdeveniments per KIDS CLUSTER
REFRESH-INTERVAL;VALUE=DURATION:PT1H
X-Robots-Tag:noindex
X-PUBLISHED-TTL:PT1H
BEGIN:VTIMEZONE
TZID:Europe/Madrid
BEGIN:DAYLIGHT
TZOFFSETFROM:+0100
TZOFFSETTO:+0200
TZNAME:CEST
DTSTART:20240331T010000
END:DAYLIGHT
BEGIN:STANDARD
TZOFFSETFROM:+0200
TZOFFSETTO:+0100
TZNAME:CET
DTSTART:20241027T010000
END:STANDARD
BEGIN:DAYLIGHT
TZOFFSETFROM:+0100
TZOFFSETTO:+0200
TZNAME:CEST
DTSTART:20250330T010000
END:DAYLIGHT
BEGIN:STANDARD
TZOFFSETFROM:+0200
TZOFFSETTO:+0100
TZNAME:CET
DTSTART:20251026T010000
END:STANDARD
BEGIN:DAYLIGHT
TZOFFSETFROM:+0100
TZOFFSETTO:+0200
TZNAME:CEST
DTSTART:20260329T010000
END:DAYLIGHT
BEGIN:STANDARD
TZOFFSETFROM:+0200
TZOFFSETTO:+0100
TZNAME:CET
DTSTART:20261025T010000
END:STANDARD
END:VTIMEZONE
BEGIN:VEVENT
DTSTART;TZID=Europe/Madrid:20251106T090000
DTEND;TZID=Europe/Madrid:20251106T170000
DTSTAMP:20260425T053650
CREATED:20250812T100715Z
LAST-MODIFIED:20251010T110049Z
UID:36314-1762419600-1762448400@www.kids-cluster.com
SUMMARY:KID'S INNOVATION FEST
DESCRIPTION:Infància\, adolescències i famílies al centre de la innovació\nLes famílies ja no són les mateixes\, ni tampoc ho són els infants i adolescents: canvien les seves necessitats\, les seves expectatives i la manera com viuen\, aprenen\, juguen i es relacionen. \nEn aquest nou escenari\, innovar pensant en la infància\, els adolescents i les famílies no és només una oportunitat\, és la responsabilitat del sector per construir un futur millor. \nAquest any la 8a edició del KID’S INNOVATION FEST serà un espai per pensar col·lectivament el futur des de la mirada dels qui creixen i dels qui els acompanyen (famílies\, empreses\, administracions públiques\, escoles…)un espai de treball col·lectiu. A partir dels diferents àmbits de l’Observatori de famílies treballarem conjuntament per co-dissenyar solucions innovadores posant els infants\, adolescents i famílies al centre de la innovació. \n  \nMés informació a www.kidsinnovationfest.com\nMolt aviat t’explicarem el programa\, els ponents i tot el que t’espera en l’esdeveniment de l’any!
URL:https://www.kids-cluster.com/activitats/kids-innovation-fest-2025/
ATTACH;FMTTYPE=image/png:https://www.kids-cluster.com/wp-content/uploads/2025/08/KIF25_SAVE-THE-DATE.png
END:VEVENT
BEGIN:VEVENT
DTSTART;VALUE=DATE:20251113
DTEND;VALUE=DATE:20251117
DTSTAMP:20260425T053650
CREATED:20250812T103227Z
LAST-MODIFIED:20250812T103227Z
UID:36323-1762992000-1763337599@www.kids-cluster.com
SUMMARY:Festival DAU Barcelona
DESCRIPTION:Torna el gran festival del joc\nDel 13 al 16 de novembre\, ens retrobarem amb una edició plena de novetats\, activitats\, experiències per a tots els públics… i molt de joc! \nMés informació a la web oficial del Festival DAU
URL:https://www.kids-cluster.com/activitats/festival-dau-barcelona-2025/
LOCATION:Fabra i Coats\, C/ de Sant Adrià\, 20\, Barcelona\, 08030\, Espanya
CATEGORIES:Presencial
ATTACH;FMTTYPE=image/png:https://www.kids-cluster.com/wp-content/uploads/2025/08/dau25.png
END:VEVENT
END:VCALENDAR