BEGIN:VCALENDAR
VERSION:2.0
PRODID:-//KIDS CLUSTER - ECPv6.15.20//NONSGML v1.0//EN
CALSCALE:GREGORIAN
METHOD:PUBLISH
X-WR-CALNAME:KIDS CLUSTER
X-ORIGINAL-URL:https://www.kids-cluster.com
X-WR-CALDESC:Esdeveniments per KIDS CLUSTER
REFRESH-INTERVAL;VALUE=DURATION:PT1H
X-Robots-Tag:noindex
X-PUBLISHED-TTL:PT1H
BEGIN:VTIMEZONE
TZID:Europe/Madrid
BEGIN:DAYLIGHT
TZOFFSETFROM:+0100
TZOFFSETTO:+0200
TZNAME:CEST
DTSTART:20230326T010000
END:DAYLIGHT
BEGIN:STANDARD
TZOFFSETFROM:+0200
TZOFFSETTO:+0100
TZNAME:CET
DTSTART:20231029T010000
END:STANDARD
BEGIN:DAYLIGHT
TZOFFSETFROM:+0100
TZOFFSETTO:+0200
TZNAME:CEST
DTSTART:20240331T010000
END:DAYLIGHT
BEGIN:STANDARD
TZOFFSETFROM:+0200
TZOFFSETTO:+0100
TZNAME:CET
DTSTART:20241027T010000
END:STANDARD
BEGIN:DAYLIGHT
TZOFFSETFROM:+0100
TZOFFSETTO:+0200
TZNAME:CEST
DTSTART:20250330T010000
END:DAYLIGHT
BEGIN:STANDARD
TZOFFSETFROM:+0200
TZOFFSETTO:+0100
TZNAME:CET
DTSTART:20251026T010000
END:STANDARD
END:VTIMEZONE
BEGIN:VEVENT
DTSTART;TZID=Europe/Madrid:20241212T100000
DTEND;TZID=Europe/Madrid:20241212T100000
DTSTAMP:20260426T032944
CREATED:20241127T103514Z
LAST-MODIFIED:20241211T104424Z
UID:34229-1733997600-1733997600@www.kids-cluster.com
SUMMARY:Antena Kids: Tendències 2024
DESCRIPTION:Descobreix les principals tendències del moment en format express.\nNo et perdis l’última sessió de l’any d’ANTENA KID’S\, el cicle de trobades online sobre tendències i novetats del sector infantil i familiar\, amb The Onion Inside\, la consultora de research generacional associada a KID’S CLUSTER i especialitzada en l’anàlisi de generacions emergents. \n  \n🔍 Temes de la sessió: \n\n🎮 Videojoc de cartes: L’èxit del fenomen Pokemon TGC Poket.\n🧸 Sonny Angels: Per què aquests petits personatges són un fenomen global.\n📺 El retorn de Bola de Drac a TV3: L’impacte d’aquesta icona generacional en les noves audiències.\n🤖 IA en l’entreteniment: Novetats com el cas de Mattel\, Wicked i l’ús de ChatGPT com a terapeuta.\n\n  \n T’interessa si…\n\nEts una organització associada a KID’S CLUSTER.\nVols estar al dia de les tendències més recents del sector infantil i familiar.\nT’interessen les novetats\, tant a nivell nacional com internacional.\nVols compartir i debatre com aquestes tendències impacten en el teu àmbit d’especialització.\n\n 
URL:https://www.kids-cluster.com/activitats/antena-kids-tendencies-nadal-2024/
CATEGORIES:Virtual
ATTACH;FMTTYPE=image/png:https://www.kids-cluster.com/wp-content/uploads/2024/11/20241212_ANTENA-KIDS-NADAL-3.png
END:VEVENT
END:VCALENDAR