BEGIN:VCALENDAR
VERSION:2.0
PRODID:-//KIDS CLUSTER - ECPv6.15.20//NONSGML v1.0//EN
CALSCALE:GREGORIAN
METHOD:PUBLISH
X-ORIGINAL-URL:https://www.kids-cluster.com
X-WR-CALDESC:Esdeveniments per KIDS CLUSTER
REFRESH-INTERVAL;VALUE=DURATION:PT1H
X-Robots-Tag:noindex
X-PUBLISHED-TTL:PT1H
BEGIN:VTIMEZONE
TZID:Europe/Madrid
BEGIN:DAYLIGHT
TZOFFSETFROM:+0100
TZOFFSETTO:+0200
TZNAME:CEST
DTSTART:20240331T010000
END:DAYLIGHT
BEGIN:STANDARD
TZOFFSETFROM:+0200
TZOFFSETTO:+0100
TZNAME:CET
DTSTART:20241027T010000
END:STANDARD
BEGIN:DAYLIGHT
TZOFFSETFROM:+0100
TZOFFSETTO:+0200
TZNAME:CEST
DTSTART:20250330T010000
END:DAYLIGHT
BEGIN:STANDARD
TZOFFSETFROM:+0200
TZOFFSETTO:+0100
TZNAME:CET
DTSTART:20251026T010000
END:STANDARD
BEGIN:DAYLIGHT
TZOFFSETFROM:+0100
TZOFFSETTO:+0200
TZNAME:CEST
DTSTART:20260329T010000
END:DAYLIGHT
BEGIN:STANDARD
TZOFFSETFROM:+0200
TZOFFSETTO:+0100
TZNAME:CET
DTSTART:20261025T010000
END:STANDARD
END:VTIMEZONE
BEGIN:VEVENT
DTSTART;TZID=Europe/Madrid:20250227T100000
DTEND;TZID=Europe/Madrid:20250227T110000
DTSTAMP:20260425T190728
CREATED:20250115T142838Z
LAST-MODIFIED:20250115T143735Z
UID:34845-1740650400-1740654000@www.kids-cluster.com
SUMMARY:Grup de Treball de tendències
DESCRIPTION:Ser membre del Grup de Treball de Tendències implica estar al dia de les últimes novetats i tendències del sector\, connectar amb les empreses més innovadores i detectar oportunitats de col·laboració amb altres socis de KID’S CLUSTER.\nEl Grup de Tendències serveix per estar al dia de les propostes més innovadores en el sector i per aproximar a les empreses al target infantil i familiar des d’un altre enfocament\, el de la novetat. \nAquest any el grup de treball de tendències té com a objectius:\n\nLiderar la proposta de tendències claus a investigar durant el 2025.\nFacilitar la trobada i l’intercanvi d’idees entre les organitzacions del sector infantil i familiar.\nCocreació de propostes per a l’elaboració de projectes comuns.\nVisitar fires d’interès.\nProporcionar un espai pels socis sobre novetats i participació a fires i esdeveniments.\n\n\nEn aquesta primera sessió de l’any proposem:\n🤝Connectar amb altres empreses i organitzacions que formen part del grup. \n🔎 Detectar interessos comuns i reptes compartit. \n💡Compartir tendències i novetats del sector \n\nDetalls de la sessió properament ⚠️Sessió exclusiva per a socis
URL:https://www.kids-cluster.com/activitats/gt-de-tendencies-2025-1/
CATEGORIES:Virtual
ATTACH;FMTTYPE=image/png:https://www.kids-cluster.com/wp-content/uploads/2025/01/20250227_gt-tendencies.png
END:VEVENT
END:VCALENDAR