BEGIN:VCALENDAR
VERSION:2.0
PRODID:-//KIDS CLUSTER - ECPv6.15.20//NONSGML v1.0//EN
CALSCALE:GREGORIAN
METHOD:PUBLISH
X-WR-CALNAME:KIDS CLUSTER
X-ORIGINAL-URL:https://www.kids-cluster.com
X-WR-CALDESC:Esdeveniments per KIDS CLUSTER
REFRESH-INTERVAL;VALUE=DURATION:PT1H
X-Robots-Tag:noindex
X-PUBLISHED-TTL:PT1H
BEGIN:VTIMEZONE
TZID:Europe/Madrid
BEGIN:DAYLIGHT
TZOFFSETFROM:+0100
TZOFFSETTO:+0200
TZNAME:CEST
DTSTART:20240331T010000
END:DAYLIGHT
BEGIN:STANDARD
TZOFFSETFROM:+0200
TZOFFSETTO:+0100
TZNAME:CET
DTSTART:20241027T010000
END:STANDARD
BEGIN:DAYLIGHT
TZOFFSETFROM:+0100
TZOFFSETTO:+0200
TZNAME:CEST
DTSTART:20250330T010000
END:DAYLIGHT
BEGIN:STANDARD
TZOFFSETFROM:+0200
TZOFFSETTO:+0100
TZNAME:CET
DTSTART:20251026T010000
END:STANDARD
BEGIN:DAYLIGHT
TZOFFSETFROM:+0100
TZOFFSETTO:+0200
TZNAME:CEST
DTSTART:20260329T010000
END:DAYLIGHT
BEGIN:STANDARD
TZOFFSETFROM:+0200
TZOFFSETTO:+0100
TZNAME:CET
DTSTART:20261025T010000
END:STANDARD
END:VTIMEZONE
BEGIN:VEVENT
DTSTART;VALUE=DATE:20250128
DTEND;VALUE=DATE:20250204
DTSTAMP:20260425T203148
CREATED:20241219T133233Z
LAST-MODIFIED:20241219T133233Z
UID:34673-1738022400-1738627199@www.kids-cluster.com
SUMMARY:Spielwarenmesse 2025
DESCRIPTION:La fira Spielwarenmesse és l’esdeveniment de referència per al sector dels jocs i joguines. Amb més de 2.800 expositors de tot el món\, aquesta fira ofereix una visió completa de les últimes tendències en joguines educatives\, tecnològiques i creatives. És un espai perfecte per conèixer nous socis comercials i explorar les oportunitats del mercat internacional. \n📆28 de gener – 3 de febrer de 2025 \n📌 Més informació i inscripcions a la web oficial \n  \nKID’S CLUSTER visitarem aquesta fira per explorar noves oportunitats i connectar amb professionals del sector. Si teniu previst assistir-hi o voleu organitzar alguna acció conjunta\, no dubteu a contactar-nos! \n 
URL:https://www.kids-cluster.com/activitats/spielwarenmesse-2025/
LOCATION:Exhibition Center Nürnberg\, Messezentrum\, Nuremberg\, 90471\, Alemanya
CATEGORIES:Presencial
ATTACH;FMTTYPE=image/png:https://www.kids-cluster.com/wp-content/uploads/2024/12/SPIELWARENMESSE-2025-1.png
END:VEVENT
BEGIN:VEVENT
DTSTART;TZID=Europe/Madrid:20250203T120000
DTEND;TZID=Europe/Madrid:20250203T130000
DTSTAMP:20260425T203149
CREATED:20250115T142112Z
LAST-MODIFIED:20250123T115900Z
UID:34834-1738584000-1738587600@www.kids-cluster.com
SUMMARY:Grup de Treball d'Industries Culturals i Creatives
DESCRIPTION:Ser membre del Grup de Treball d’Industries Culturals i Creatives implica innovar en experiències que combinin l’educació i l’entreteniment\, en millores per al turisme familiar\, el retail\, l’experiència d’usuari\, els esdeveniments\, les experiències audiovisuals i l’ús de les tecnologies aplicades a l’entreteniment i a espais d’oci diversos.\n\n\nAquesta trobada està dedicada a conèixer les oportunitats de finançament que ofereix Europa Creativa\, un programa europeu que des del 2014 dona suport a projectes que impulsen la diversitat cultural\, l’expressió artística i el potencial econòmic de les indústries creatives. \nEuropa Creativa (Creative Europe) és una iniciativa de la Unió Europea que\, en el període 2021-2027\, compta amb un pressupost de 2.440 milions d’euros. Aquest programa inverteix en accions que: \n\nSalvaguarden i promouen la diversitat cultural i lingüística europea.\nImpulsen la competitivitat\, la innovació i la sostenibilitat dels sectors cultural i creatiu.\nFomenten la inclusió social\, la digitalització i la sostenibilitat mediambiental.\n\n  \nEn aquesta sessió\, ens centrarem en la secció MEDIA\, que dona suport a les indústries cinematogràfiques i audiovisuals europees en el desenvolupament\, distribució i promoció d’obres\, amb un enfocament adaptat a l’entorn digital actual. \nPrograma:\n\n12:00 – 12:10: Benvinguda i presentació\n12:10 – 12:50: Oportunitats de finançament amb Creative Europe a càrrec d’ Alex Navarro\, Coordinador d’Europa Creativa Desk – MEDIA Catalunya (Institut Català de les Empreses Culturals).\nAlex Navarro ens presentarà les línies de suport de Creative Europe\, posant especial èmfasi en la secció MEDIA. Temes clau: \n\nCategories i projectes que poden optar a finançament.\nRequisits i criteris per accedir als fons.\nExemples d’èxit en els sectors audiovisuals i creatius.\n\n\n12:50 – 13:00: Espai obert de preguntes per resoldre dubtes i intercanviar idees entre els participants i el ponent.\n\nPer què participar-hi?\n\nDescobreix com accedir a finançament europeu per donar vida als teus projectes creatius.\nComparteix reptes amb altres professionals del sector i explora possibles col·laboracions.\n\nT’interessa si:\nEts una empresa de l’àmbit de les industries culturals i creatives\, administracions públiques\, centres de recerca i universitats\, productors de continguts\, productores i distribuïdores\, festivals i entitats turístiques. \n ⚠️Sessió exclusiva per a socis
URL:https://www.kids-cluster.com/activitats/gt-industries-culturals-creatives-2025-1/
CATEGORIES:Virtual
ATTACH;FMTTYPE=image/png:https://www.kids-cluster.com/wp-content/uploads/2025/01/20250203_GT_ICC.png
END:VEVENT
END:VCALENDAR