BEGIN:VCALENDAR
VERSION:2.0
PRODID:-//KIDS CLUSTER - ECPv6.15.20//NONSGML v1.0//EN
CALSCALE:GREGORIAN
METHOD:PUBLISH
X-ORIGINAL-URL:https://www.kids-cluster.com
X-WR-CALDESC:Esdeveniments per KIDS CLUSTER
REFRESH-INTERVAL;VALUE=DURATION:PT1H
X-Robots-Tag:noindex
X-PUBLISHED-TTL:PT1H
BEGIN:VTIMEZONE
TZID:Europe/Madrid
BEGIN:DAYLIGHT
TZOFFSETFROM:+0100
TZOFFSETTO:+0200
TZNAME:CEST
DTSTART:20230326T010000
END:DAYLIGHT
BEGIN:STANDARD
TZOFFSETFROM:+0200
TZOFFSETTO:+0100
TZNAME:CET
DTSTART:20231029T010000
END:STANDARD
BEGIN:DAYLIGHT
TZOFFSETFROM:+0100
TZOFFSETTO:+0200
TZNAME:CEST
DTSTART:20240331T010000
END:DAYLIGHT
BEGIN:STANDARD
TZOFFSETFROM:+0200
TZOFFSETTO:+0100
TZNAME:CET
DTSTART:20241027T010000
END:STANDARD
BEGIN:DAYLIGHT
TZOFFSETFROM:+0100
TZOFFSETTO:+0200
TZNAME:CEST
DTSTART:20250330T010000
END:DAYLIGHT
BEGIN:STANDARD
TZOFFSETFROM:+0200
TZOFFSETTO:+0100
TZNAME:CET
DTSTART:20251026T010000
END:STANDARD
END:VTIMEZONE
BEGIN:VEVENT
DTSTART;TZID=Europe/Madrid:20241105T100000
DTEND;TZID=Europe/Madrid:20241105T110000
DTSTAMP:20260426T003838
CREATED:20241018T084436Z
LAST-MODIFIED:20241021T110634Z
UID:33861-1730800800-1730804400@www.kids-cluster.com
SUMMARY:Grup de Treball d'Hàbits saludables
DESCRIPTION:Acompanya’ns en aquesta trobada del Grup de Treball d’Hàbits Saludables. Formar-ne part et permetrà aprofundir en la missió de trobar el benestar holístic del sector infantil i familiar en tots els àmbits: salut mental\, alimentació\, salut integral 360º\, seguretat i innovació pediàtrica.\nAquest any el grup de treball en Alimentació/Hàbits Saludables té com a objectius:\n\nLiderar la salut de l’infant per millorar el seu benestar fent especial èmfasis en la relació alimentació-salut\nAnalitzar els reptes als que ens enfrontem i com des de el sector podem donar solució\nFacilitar la trobada i l’intercanvi d’idees entre les organitzacions del sector infantil i familiar d’aquest àmbit.\nCocreació de propostes per a l’elaboració de projectes comuns en l’àmbit de la salut integral de l’infant.\n\n\nEn aquesta sessió es tractaran els següents temes:\n\nProposta de pròximes activitats\nPropostes de socis
URL:https://www.kids-cluster.com/activitats/grup-de-treball-alimentacio-habits-saludables-11-2024/
CATEGORIES:Virtual
ATTACH;FMTTYPE=image/png:https://www.kids-cluster.com/wp-content/uploads/2024/10/20241105_Habits-saludables.png
END:VEVENT
END:VCALENDAR